BEGIN:VCALENDAR
VERSION:2.0
PRODID:-//www.insightmcc.org//NONSGML kigkonsult.se iCalcreator 2.30.10//
CALSCALE:GREGORIAN
METHOD:PUBLISH
UID:9d943191-e7c3-42d4-8eab-62f3e4368e71
X-WR-CALDESC:The Virtual Dementia Tour (VDT) is designed to help simulate t
 he effects of dementia. A trained facilitator will guide participants outf
 itted with patented devices that alter their senses while they try to comp
 lete common everyday tasks and exercises. The Tour enables caregivers to e
 xperience for themselves the physical and mental challenges those with dem
 entia face\, and use the experience to provide better person-centered care
 .\n\nSign up for a specific time slot at the link below\; only two are ava
 ilable each half-hour. Pick your slot today to gain better insight into ca
 ring for those with memory impairments!\n\n&nbsp\;\n<strong><a href='https
 ://insightmemory.app.neoncrm.com/eventReg.jsp?event=1844&' class='button'>
 Sign Me Up!</a></strong>\n
X-WR-RELCALID:5e9c1bc102ec88b99c47bb6ceb45586c
X-WR-TIMEZONE:America/New_York
BEGIN:VTIMEZONE
TZID:America/New_York
BEGIN:STANDARD
TZNAME:EST
DTSTART:20241103T020000
TZOFFSETFROM:-0400
TZOFFSETTO:-0500
RDATE:20251102T020000
END:STANDARD
BEGIN:DAYLIGHT
TZNAME:EDT
DTSTART:20240310T020000
TZOFFSETFROM:-0500
TZOFFSETTO:-0400
RDATE:20250309T020000
RDATE:20260308T020000
END:DAYLIGHT
END:VTIMEZONE
BEGIN:VEVENT
UID:68ff4ac3-ed8f-4ab7-b300-470d6f3c7b3e
DTSTAMP:20260421T200801Z
DESCRIPTION:The Virtual Dementia Tour (VDT) is designed to help simulate th
 e effects of dementia. A trained facilitator will guide participants outfi
 tted with patented devices that alter their senses while they try to compl
 ete common everyday tasks and exercises. The Tour enables caregivers to ex
 perience for themselves the physical and mental challenges those with deme
 ntia face\, and use the experience to provide better person-centered care.
 \n\nSign up for a specific time slot at the link below\; only two are avai
 lable each half-hour. Pick your slot today to gain better insight into car
 ing for those with memory impairments!\n\n&nbsp\;\n<strong><a href='https:
 //insightmemory.app.neoncrm.com/eventReg.jsp?event=1844&' class='button'>S
 ign Me Up!</a></strong>\n
DTSTART;TZID=America/New_York:20241106T110000
DTEND;TZID=America/New_York:20241106T160000
LOCATION:Hunters Woods at Trails Edge\, 2222 Colts Neck Rd\, Reston\, VA 20
 191 US
SUMMARY:Virtual Dementia Tour (VDT) (in-person event)
END:VEVENT
END:VCALENDAR
