BEGIN:VCALENDAR
VERSION:2.0
PRODID:-//www.insightmcc.org//NONSGML kigkonsult.se iCalcreator 2.30.10//
CALSCALE:GREGORIAN
METHOD:PUBLISH
UID:c6ca3ff3-4db1-4be5-af13-b2ff03d41300
X-WR-CALDESC:As the holiday season approaches\, it’s important to find ways
  to foster meaningful connections with loved ones living with dementia. Th
 is event will provide expert advice on enhancing your visits with loved on
 es who have dementia\, offering strategies to create moments of comfort an
 d engagement. The session will guide attendees through the best approaches
  to strengthen connections and ensure each visit is a positive\, enriching
  experience. \n\n\nPlease register at the link below.
X-WR-RELCALID:8c2f2f1c7bdd3f19ec79de9580382ece
X-WR-TIMEZONE:America/New_York
BEGIN:VTIMEZONE
TZID:America/New_York
BEGIN:STANDARD
TZNAME:EST
DTSTART:20241103T020000
TZOFFSETFROM:-0400
TZOFFSETTO:-0500
RDATE:20251102T020000
END:STANDARD
BEGIN:DAYLIGHT
TZNAME:EDT
DTSTART:20240310T020000
TZOFFSETFROM:-0500
TZOFFSETTO:-0400
RDATE:20250309T020000
RDATE:20260308T020000
END:DAYLIGHT
END:VTIMEZONE
BEGIN:VEVENT
UID:05670590-2188-4d50-811a-ad184bd210d8
DTSTAMP:20260421T200751Z
DESCRIPTION:As the holiday season approaches\, it’s important to find ways 
 to foster meaningful connections with loved ones living with dementia. Thi
 s event will provide expert advice on enhancing your visits with loved one
 s who have dementia\, offering strategies to create moments of comfort and
  engagement. The session will guide attendees through the best approaches 
 to strengthen connections and ensure each visit is a positive\, enriching 
 experience. \n\n\nPlease register at the link below.
DTSTART;TZID=America/New_York:20241107T180000
DTEND;TZID=America/New_York:20241107T190000
LOCATION:The Kensington Falls Church\, 700 W Broad St\, Falls Church\, VA 2
 2046 US
SUMMARY:Purposeful Holiday Visits: Enhancing Time with Your Loved One with 
 Dementia
END:VEVENT
END:VCALENDAR
