BEGIN:VCALENDAR
VERSION:2.0
PRODID:-//www.insightmcc.org//NONSGML kigkonsult.se iCalcreator 2.30.10//
CALSCALE:GREGORIAN
METHOD:PUBLISH
UID:7231327d-60f7-4a9b-95e0-f44d41141d37
X-WR-CALDESC:All are welcome to attend this support group for family and fr
 iends of those with dementia and other memory impairments. This group allo
 ws care partners to problem-solve\, discuss issues\, and connect with each
  other regarding dementia in every-day life. This group will also include 
 practical resources and guest speakers throughout the year. \n\nAs we aim 
 to support more care partners along their dementia journey\, Insight partn
 ers with several community groups to offer additional in-person support gr
 oups. All are free and open to the public.\n\nThis group meets the 2nd Tue
 sday of each month from 4:00 pm - 5:00 pm. Please reach out to the contact
  listed below with any questions.
X-WR-RELCALID:6a14ba6566cd79fd01c018febd2453ee
X-WR-TIMEZONE:America/New_York
BEGIN:VTIMEZONE
TZID:America/New_York
BEGIN:STANDARD
TZNAME:EST
DTSTART:20241103T020000
TZOFFSETFROM:-0400
TZOFFSETTO:-0500
RDATE:20251102T020000
END:STANDARD
BEGIN:DAYLIGHT
TZNAME:EDT
DTSTART:20240310T020000
TZOFFSETFROM:-0500
TZOFFSETTO:-0400
RDATE:20250309T020000
RDATE:20260308T020000
END:DAYLIGHT
END:VTIMEZONE
BEGIN:VEVENT
UID:5e57adaa-ac60-4631-bc51-055ff57b188c
DTSTAMP:20260421T200418Z
DESCRIPTION:All are welcome to attend this support group for family and fri
 ends of those with dementia and other memory impairments. This group allow
 s care partners to problem-solve\, discuss issues\, and connect with each 
 other regarding dementia in every-day life. This group will also include p
 ractical resources and guest speakers throughout the year. \n\nAs we aim t
 o support more care partners along their dementia journey\, Insight partne
 rs with several community groups to offer additional in-person support gro
 ups. All are free and open to the public.\n\nThis group meets the 2nd Tues
 day of each month from 4:00 pm - 5:00 pm. Please reach out to the contact 
 listed below with any questions.
DTSTART;TZID=America/New_York:20241112T160000
DTEND;TZID=America/New_York:20241112T170000
LOCATION:Tall Oaks Assisted Living\, 12052 N Shore Dr\, Reston\, VA 20190 U
 S
SUMMARY:Tall Oaks Caregiver Support Group
END:VEVENT
END:VCALENDAR
