BEGIN:VCALENDAR
VERSION:2.0
PRODID:-//www.insightmcc.org//NONSGML kigkonsult.se iCalcreator 2.30.10//
CALSCALE:GREGORIAN
METHOD:PUBLISH
UID:5094e1f3-e2c9-46a2-b931-dd9168dbcd76
X-WR-CALDESC:Insight Memory Care Center is partnering with Encore Creativit
 y for Older Adults\, the nation’s largest choral program for singers 55+\,
  to offer a chorus for those diagnosed with early or beginning moderate Al
 zheimer’s and other memory impairments.\n\nSingers in the chorus\, along w
 ith their care partner\, will learn familiar and new songs in three-part h
 armony. We will rehearse familiar music for the season\, along with old fa
 vorites such as Somewhere Over the Rainbow. Everyone will learn vocal tech
 nique skills to improve their singing voice and\, of course\, enjoy the al
 l-important social aspect of choral singing!\n\nWe are hopeful that all ca
 re partners will also sing! If you don’t feel as musically inclined\, care
  partners can also just listen in to rehearsals.\n\n<b>Fall 2024 Session D
 etails: Every Wednesday effective 9/4/2024 until 12/18/2024 from 10:00 AM 
 to 11:30 AM</b>\n\nYou will register for the Fall 2024 Session at the link
  below. Please choose the Sentimental Journey Singers of Fairfax option on
  the registration form.
X-WR-RELCALID:d56a9279206719b5a73dbc244d5d3e7d
X-WR-TIMEZONE:America/New_York
BEGIN:VTIMEZONE
TZID:America/New_York
BEGIN:STANDARD
TZNAME:EST
DTSTART:20241103T020000
TZOFFSETFROM:-0400
TZOFFSETTO:-0500
RDATE:20251102T020000
END:STANDARD
BEGIN:DAYLIGHT
TZNAME:EDT
DTSTART:20240310T020000
TZOFFSETFROM:-0500
TZOFFSETTO:-0400
RDATE:20250309T020000
RDATE:20260308T020000
END:DAYLIGHT
END:VTIMEZONE
BEGIN:VEVENT
UID:47931c69-4052-4861-a098-b9f1bdf53b27
DTSTAMP:20260421T200449Z
DESCRIPTION:Insight Memory Care Center is partnering with Encore Creativity
  for Older Adults\, the nation’s largest choral program for singers 55+\, 
 to offer a chorus for those diagnosed with early or beginning moderate Alz
 heimer’s and other memory impairments.\n\nSingers in the chorus\, along wi
 th their care partner\, will learn familiar and new songs in three-part ha
 rmony. We will rehearse familiar music for the season\, along with old fav
 orites such as Somewhere Over the Rainbow. Everyone will learn vocal techn
 ique skills to improve their singing voice and\, of course\, enjoy the all
 -important social aspect of choral singing!\n\nWe are hopeful that all car
 e partners will also sing! If you don’t feel as musically inclined\, care 
 partners can also just listen in to rehearsals.\n\n<b>Fall 2024 Session De
 tails: Every Wednesday effective 9/4/2024 until 12/18/2024 from 10:00 AM t
 o 11:30 AM</b>\n\nYou will register for the Fall 2024 Session at the link 
 below. Please choose the Sentimental Journey Singers of Fairfax option on 
 the registration form.
DTSTART;TZID=America/New_York:20241113T100000
DTEND;TZID=America/New_York:20241113T113000
LOCATION:Insight Memory Care Center - Mazawey Education and Support Center\
 , 3955 Pender Drive\, Suite 100\, Fairfax\, VA 22030 US
SUMMARY:Sentimental Journey Singers - Fairfax
END:VEVENT
END:VCALENDAR
