BEGIN:VCALENDAR
VERSION:2.0
PRODID:-//www.insightmcc.org//NONSGML kigkonsult.se iCalcreator 2.30.10//
CALSCALE:GREGORIAN
METHOD:PUBLISH
UID:1bbc098e-a43a-4c24-920a-90d9706fb059
X-WR-CALDESC:The causes of young-onset\, or early-onset dementia are simila
 r to the diseases that usually cause dementia in older people. However\, s
 ome causes\, such as frontotemporal dementia (FTD)\, are more common in yo
 unger people. Dementia in younger people often has different symptoms\, ev
 en when it’s caused by the same diseases as in older people. Let’s look at
  some common causes of dementia\, and how they can affect younger people.
 \n\n<b>This class will be held VIRTUALLY only.</b>\n\nYou will receive Zoo
 m information upon registration.\n\nThis program is a part of our monthly 
 Care Partner Training series. All sessions are FREE\, and held the second 
 Wednesday of each month from 1:00 to 2:30 pm.\n\n\n<strong><a href='https:
 //insightmemory.app.neoncrm.com/eventReg.jsp?event=1749&' class='button'>S
 ign Me Up - Virtual</a></strong>\n\n\n<b>Presenter</b>\n<i>Simon Fishman\,
  MD </i>\nBoard-certified neurologist Simon Fishman\, MD\, brings more tha
 n two decades of experience in neurology and electrodiagnostic medicine to
  Integrated Neurology Services\, serving men and women in and around Alexa
 ndria\, Falls Church\, Lorton\, and Reston\, Virginia. As a neurologist\, 
 Dr. Fishman is board-certified by the American Board of Psychiatry and Neu
 rology (ABPN) and the American Board of Electrodiagnostic Medicine (ABEM).
  He’s highly trained in the diagnosis and treatment of disorders of the ne
 rvous system\, including diseases of the brain\, nerves\, spinal cord\, an
 d muscles.\n\nAside from working with patients\, Dr. Fishman is actively i
 nvolved in educational and community projects that improve the standard of
  neurologic care in and around metro Washington\, DC. He’s an adjunct facu
 lty member at George Washington University Hospital Center\, the Krasnow I
 nstitute of Advanced Study at George Mason University\, and Virginia Medic
 al College. Dr. Fishman established the Neurovascular Care Unit and stroke
  program at Alexandria Hospital and spearheaded efforts to mandate 24-hour
  neurology coverage at Fairfax Hospital. He also founded the very first co
 mprehensive spasticity management program at Woodbine Rehabilitation Cente
 r in Alexandria\, Virginia.\n
X-WR-RELCALID:af2a0f4e74157c891fa88b937ef76196
X-WR-TIMEZONE:America/New_York
BEGIN:VTIMEZONE
TZID:America/New_York
BEGIN:STANDARD
TZNAME:EST
DTSTART:20241103T020000
TZOFFSETFROM:-0400
TZOFFSETTO:-0500
RDATE:20251102T020000
END:STANDARD
BEGIN:DAYLIGHT
TZNAME:EDT
DTSTART:20240310T020000
TZOFFSETFROM:-0500
TZOFFSETTO:-0400
RDATE:20250309T020000
RDATE:20260308T020000
END:DAYLIGHT
END:VTIMEZONE
BEGIN:VEVENT
UID:56840269-d013-47dc-bb15-75f26705cc64
DTSTAMP:20260421T200203Z
DESCRIPTION:The causes of young-onset\, or early-onset dementia are similar
  to the diseases that usually cause dementia in older people. However\, so
 me causes\, such as frontotemporal dementia (FTD)\, are more common in you
 nger people. Dementia in younger people often has different symptoms\, eve
 n when it’s caused by the same diseases as in older people. Let’s look at 
 some common causes of dementia\, and how they can affect younger people.\n
 \n<b>This class will be held VIRTUALLY only.</b>\n\nYou will receive Zoom 
 information upon registration.\n\nThis program is a part of our monthly Ca
 re Partner Training series. All sessions are FREE\, and held the second We
 dnesday of each month from 1:00 to 2:30 pm.\n\n\n<strong><a href='https://
 insightmemory.app.neoncrm.com/eventReg.jsp?event=1749&' class='button'>Sig
 n Me Up - Virtual</a></strong>\n\n\n<b>Presenter</b>\n<i>Simon Fishman\, M
 D </i>\nBoard-certified neurologist Simon Fishman\, MD\, brings more than 
 two decades of experience in neurology and electrodiagnostic medicine to I
 ntegrated Neurology Services\, serving men and women in and around Alexand
 ria\, Falls Church\, Lorton\, and Reston\, Virginia. As a neurologist\, Dr
 . Fishman is board-certified by the American Board of Psychiatry and Neuro
 logy (ABPN) and the American Board of Electrodiagnostic Medicine (ABEM). H
 e’s highly trained in the diagnosis and treatment of disorders of the nerv
 ous system\, including diseases of the brain\, nerves\, spinal cord\, and 
 muscles.\n\nAside from working with patients\, Dr. Fishman is actively inv
 olved in educational and community projects that improve the standard of n
 eurologic care in and around metro Washington\, DC. He’s an adjunct facult
 y member at George Washington University Hospital Center\, the Krasnow Ins
 titute of Advanced Study at George Mason University\, and Virginia Medical
  College. Dr. Fishman established the Neurovascular Care Unit and stroke p
 rogram at Alexandria Hospital and spearheaded efforts to mandate 24-hour n
 eurology coverage at Fairfax Hospital. He also founded the very first comp
 rehensive spasticity management program at Woodbine Rehabilitation Center 
 in Alexandria\, Virginia.\n
DTSTART;TZID=America/New_York:20241113T130000
DTEND;TZID=America/New_York:20241113T143000
LOCATION:Virtual! Zoom link provided upon registration.
SUMMARY:Young Onset Dementia
END:VEVENT
END:VCALENDAR
