BEGIN:VCALENDAR
VERSION:2.0
PRODID:-//www.insightmcc.org//NONSGML kigkonsult.se iCalcreator 2.30.10//
CALSCALE:GREGORIAN
METHOD:PUBLISH
UID:895f242c-1ad1-4d8f-8914-ed865b2731a3
X-WR-CALDESC:You’re invited to the Sterling Memory Cafe Friendsgiving! Insi
 ght will be providing turkey and beverages. Families are welcome to bring 
 a salad\, side dish\, bread\, or dessert to share with everyone.\n\nWe’d a
 lso love for you to bring your favorite recipe and some recipe cards to sw
 ap. If you’re bringing a store-bought item\, that’s perfectly fine too! Yo
 u can still join in the fun by bringing along recipe cards. If your dish h
 as any cultural significance or personal history\, we’d love for you to in
 clude a brief note about it!\n\n&nbsp\;\n<strong><a href='https://insightm
 emory.app.neoncrm.com/eventReg.jsp?event=1674&' target='_blank' class='but
 ton' rel='noreferrer noopener'>Sign Me Up!</a></strong>\n\n\nWe'll have a 
 clipboard in the Sterling entrance for you to write down what you plan to 
 bring\, or you can email that info to Sarah at Sarah.Arthurs@InsightMCC.or
 g.
X-WR-RELCALID:734fb506b7d83bf70cacdd4ec5300e27
X-WR-TIMEZONE:America/New_York
BEGIN:VTIMEZONE
TZID:America/New_York
BEGIN:STANDARD
TZNAME:EST
DTSTART:20241103T020000
TZOFFSETFROM:-0400
TZOFFSETTO:-0500
RDATE:20251102T020000
END:STANDARD
BEGIN:DAYLIGHT
TZNAME:EDT
DTSTART:20240310T020000
TZOFFSETFROM:-0500
TZOFFSETTO:-0400
RDATE:20250309T020000
RDATE:20260308T020000
END:DAYLIGHT
END:VTIMEZONE
BEGIN:VEVENT
UID:53888f10-bf35-41b9-8cb9-7791b2b45156
DTSTAMP:20260421T200735Z
DESCRIPTION:You’re invited to the Sterling Memory Cafe Friendsgiving! Insig
 ht will be providing turkey and beverages. Families are welcome to bring a
  salad\, side dish\, bread\, or dessert to share with everyone.\n\nWe’d al
 so love for you to bring your favorite recipe and some recipe cards to swa
 p. If you’re bringing a store-bought item\, that’s perfectly fine too! You
  can still join in the fun by bringing along recipe cards. If your dish ha
 s any cultural significance or personal history\, we’d love for you to inc
 lude a brief note about it!\n\n&nbsp\;\n<strong><a href='https://insightme
 mory.app.neoncrm.com/eventReg.jsp?event=1674&' target='_blank' class='butt
 on' rel='noreferrer noopener'>Sign Me Up!</a></strong>\n\n\nWe'll have a c
 lipboard in the Sterling entrance for you to write down what you plan to b
 ring\, or you can email that info to Sarah at Sarah.Arthurs@InsightMCC.org
 .
DTSTART;TZID=America/New_York:20241114T160000
DTEND;TZID=America/New_York:20241114T180000
LOCATION:Insight Memory Care Center - Sterling\, 45945 Center Oak Plaza\, S
 uite 190\, Sterling\, VA 20166 US
SUMMARY:Sterling Memory Cafe - Friendsgiving
END:VEVENT
END:VCALENDAR
