BEGIN:VCALENDAR
VERSION:2.0
PRODID:-//www.insightmcc.org//NONSGML kigkonsult.se iCalcreator 2.30.10//
CALSCALE:GREGORIAN
METHOD:PUBLISH
UID:c1604a0c-f9e8-40fe-bd7a-6f5f6cd55bb8
X-WR-CALDESC:Dr. Alice Howland (Julianne Moore) is a renowned linguistics p
 rofessor at Columbia University. When words begin to escape her and she st
 arts becoming lost on her daily jogs\, Alice must come face-to-face with a
  devastating diagnosis: early-onset Alzheimer's disease. As the once-vibra
 nt woman struggles to hang on to her sense of self for as long as possible
 \, Alice's three grown children must watch helplessly as their mother disa
 ppears more and more with each passing day. \n\nJoin Insight & AARP Virgin
 ia for a screening of the movie and a discussion with the Alzheimer’s Asso
 ciation after the film!\n\nThis class will be held both virtually and in-p
 erson at Waltonwood Ashburn. Please select your attendance type when you r
 egister.\n\nThe in-person session will be held at Waltonwood Ashburn\, 441
 41 Russell Branch Pkwy\, Ashburn\, VA 20147\n\nVirtual attendees will rece
 ive Zoom information prior to the class. Please note\, this Zoom session w
 ill not be recorded\; plan to attend live online!\n\n\n\n&nbsp\;\n<strong>
 <a href='https://insightmemory.app.neoncrm.com/eventReg.jsp?event=1799&' c
 lass='button'>Sign Me Up - In Person</a></strong>\n\n<strong><a href='http
 s://insightmemory.app.neoncrm.com/eventReg.jsp?event=1804&' class='button'
 >Sign Me Up - Virtual</a></strong>
X-WR-RELCALID:2472637a055db2e7e696d02440922e80
X-WR-TIMEZONE:America/New_York
BEGIN:VTIMEZONE
TZID:America/New_York
BEGIN:STANDARD
TZNAME:EST
DTSTART:20241103T020000
TZOFFSETFROM:-0400
TZOFFSETTO:-0500
RDATE:20251102T020000
END:STANDARD
BEGIN:DAYLIGHT
TZNAME:EDT
DTSTART:20240310T020000
TZOFFSETFROM:-0500
TZOFFSETTO:-0400
RDATE:20250309T020000
RDATE:20260308T020000
END:DAYLIGHT
END:VTIMEZONE
BEGIN:VEVENT
UID:7556b3a3-6ff3-4774-9da5-49011a1a243f
DTSTAMP:20260420T121838Z
DESCRIPTION:Dr. Alice Howland (Julianne Moore) is a renowned linguistics pr
 ofessor at Columbia University. When words begin to escape her and she sta
 rts becoming lost on her daily jogs\, Alice must come face-to-face with a 
 devastating diagnosis: early-onset Alzheimer's disease. As the once-vibran
 t woman struggles to hang on to her sense of self for as long as possible\
 , Alice's three grown children must watch helplessly as their mother disap
 pears more and more with each passing day. \n\nJoin Insight & AARP Virgini
 a for a screening of the movie and a discussion with the Alzheimer’s Assoc
 iation after the film!\n\nThis class will be held both virtually and in-pe
 rson at Waltonwood Ashburn. Please select your attendance type when you re
 gister.\n\nThe in-person session will be held at Waltonwood Ashburn\, 4414
 1 Russell Branch Pkwy\, Ashburn\, VA 20147\n\nVirtual attendees will recei
 ve Zoom information prior to the class. Please note\, this Zoom session wi
 ll not be recorded\; plan to attend live online!\n\n\n\n&nbsp\;\n<strong><
 a href='https://insightmemory.app.neoncrm.com/eventReg.jsp?event=1799&' cl
 ass='button'>Sign Me Up - In Person</a></strong>\n\n<strong><a href='https
 ://insightmemory.app.neoncrm.com/eventReg.jsp?event=1804&' class='button'>
 Sign Me Up - Virtual</a></strong>
DTSTART;TZID=America/New_York:20241114T180000
DTEND;TZID=America/New_York:20241114T210000
LOCATION:Hybrid! Virtual and in-person at Waltonwood at Ashburn
SUMMARY:Still Alice - Movie Screening and Discussion
END:VEVENT
END:VCALENDAR
