BEGIN:VCALENDAR
VERSION:2.0
PRODID:-//www.insightmcc.org//NONSGML kigkonsult.se iCalcreator 2.30.10//
CALSCALE:GREGORIAN
METHOD:PUBLISH
UID:2c706ed1-5ccf-4bbd-80cc-150c2d29fb36
X-WR-CALDESC:Meet Me: Community Outings are free\, and give families living
  with mild cognitive impairment (MCI) or early stage memory loss an opport
 unity to connect and stay engaged in the community\, in a safe and support
 ive way. Outings are designed for both the diagnosed individual and a care
  partner or friend to participate together\, and meet new friends in the p
 rocess!\n\nJoin us for the cabaret\, 'I'll Take You There: Stax Records Co
 .' A counterpart of Motown\, Stax Records Co. brought America “(Sittin’ on
 ) the Dock of the Bay\,” “Soul Man\,” “Mr. Big Stuff\,” “What A Man\,” “In
  the Midnight Hour” and the “Theme from Shaft.” Now groove to the Southern
  soul with the smooth style of the Memphis recording company that discover
 ed Otis Redding\, Isaac Hayes\, Booker T & the M.G.’s\, Carla Thomas and t
 he Staple Singers. Cabarets run approximately 75 minutes\, no intermission
 .\n\nMany thanks to I'm Still Here for providing funding for this program 
 so that families can participate for free!\n\n&nbsp\;\n<strong><a href='ht
 tps://insightmemory.app.neoncrm.com/eventReg.jsp?event=1918&' target='_bla
 nk' class='button' rel='noreferrer noopener'>Sign Me Up!</a></strong>\n
X-WR-RELCALID:fa2ff2382f60fb10c99d4ecd13ddf184
X-WR-TIMEZONE:America/New_York
BEGIN:VTIMEZONE
TZID:America/New_York
BEGIN:STANDARD
TZNAME:EST
DTSTART:20241103T020000
TZOFFSETFROM:-0400
TZOFFSETTO:-0500
RDATE:20251102T020000
END:STANDARD
BEGIN:DAYLIGHT
TZNAME:EDT
DTSTART:20240310T020000
TZOFFSETFROM:-0500
TZOFFSETTO:-0400
RDATE:20250309T020000
RDATE:20260308T020000
END:DAYLIGHT
END:VTIMEZONE
BEGIN:VEVENT
UID:a8fbf581-c203-4db7-a658-8ea9097d959d
DTSTAMP:20260421T200621Z
DESCRIPTION:Meet Me: Community Outings are free\, and give families living 
 with mild cognitive impairment (MCI) or early stage memory loss an opportu
 nity to connect and stay engaged in the community\, in a safe and supporti
 ve way. Outings are designed for both the diagnosed individual and a care 
 partner or friend to participate together\, and meet new friends in the pr
 ocess!\n\nJoin us for the cabaret\, 'I'll Take You There: Stax Records Co.
 ' A counterpart of Motown\, Stax Records Co. brought America “(Sittin’ on)
  the Dock of the Bay\,” “Soul Man\,” “Mr. Big Stuff\,” “What A Man\,” “In 
 the Midnight Hour” and the “Theme from Shaft.” Now groove to the Southern 
 soul with the smooth style of the Memphis recording company that discovere
 d Otis Redding\, Isaac Hayes\, Booker T & the M.G.’s\, Carla Thomas and th
 e Staple Singers. Cabarets run approximately 75 minutes\, no intermission.
 \n\nMany thanks to I'm Still Here for providing funding for this program s
 o that families can participate for free!\n\n&nbsp\;\n<strong><a href='htt
 ps://insightmemory.app.neoncrm.com/eventReg.jsp?event=1918&' target='_blan
 k' class='button' rel='noreferrer noopener'>Sign Me Up!</a></strong>\n
DTSTART;TZID=America/New_York:20241117T140000
DTEND;TZID=America/New_York:20241117T153000
LOCATION:Signature Theatre\, 4200 Campbell Ave\, Arlington\, VA 22206 US
SUMMARY:Meet Me: At Signature Theater
END:VEVENT
END:VCALENDAR
