BEGIN:VCALENDAR
VERSION:2.0
PRODID:-//www.insightmcc.org//NONSGML kigkonsult.se iCalcreator 2.30.10//
CALSCALE:GREGORIAN
METHOD:PUBLISH
UID:c672a3ef-d19b-43ff-a5e4-94a8fda54249
X-WR-CALDESC:Join us for a discussion about the importance of socialization
  when aging. Research has found that social support can play a significant
  role in overall health as people age. Spending time with friends and fami
 ly members can boost quality of life\, including both physical and mental 
 health.\n\nThis program is presented by the Insight Memory Care Team at th
 e Wellness Center for Older Adults\, please contact the event contact belo
 w to RSVP.
X-WR-RELCALID:6a4db652dcc150dc4f6b81999fdbc02e
X-WR-TIMEZONE:America/New_York
BEGIN:VTIMEZONE
TZID:America/New_York
BEGIN:STANDARD
TZNAME:EST
DTSTART:20241103T020000
TZOFFSETFROM:-0400
TZOFFSETTO:-0500
RDATE:20251102T020000
END:STANDARD
BEGIN:DAYLIGHT
TZNAME:EDT
DTSTART:20240310T020000
TZOFFSETFROM:-0500
TZOFFSETTO:-0400
RDATE:20250309T020000
RDATE:20260308T020000
END:DAYLIGHT
END:VTIMEZONE
BEGIN:VEVENT
UID:d8d9f8bd-3593-49fe-92ae-604dcc04be6f
DTSTAMP:20260421T202115Z
DESCRIPTION:Join us for a discussion about the importance of socialization 
 when aging. Research has found that social support can play a significant 
 role in overall health as people age. Spending time with friends and famil
 y members can boost quality of life\, including both physical and mental h
 ealth.\n\nThis program is presented by the Insight Memory Care Team at the
  Wellness Center for Older Adults\, please contact the event contact below
  to RSVP.
DTSTART;TZID=America/New_York:20241118T130000
DTEND;TZID=America/New_York:20241118T140000
LOCATION:Wellness Center for Older Adults\, 4027B Olley Lane\, Fairfax\, VA
  22032 US
SUMMARY:Importance of Socialization When Aging
END:VEVENT
END:VCALENDAR
