BEGIN:VCALENDAR
VERSION:2.0
PRODID:-//www.insightmcc.org//NONSGML kigkonsult.se iCalcreator 2.30.10//
CALSCALE:GREGORIAN
METHOD:PUBLISH
UID:97a65764-55fe-43a3-b195-0ee08e578c87
X-WR-CALDESC:Aphasia Memory Café is a monthly social gathering for caregive
 rs & loved ones with progressive aphasia and mild memory loss hosted by In
 sight Memory Care Center. This cafe is a monthly engagement program of act
 ivities\, recreation\, peer support and socialization for individuals show
 ing early signs of memory loss and progressive aphasia and their caregiver
 s. \n\nEvery gathering is geared toward keeping the mind active during the
  early stages of progressive aphasia and improving communication and conne
 ction between caregivers and loved ones to the greatest degree possible.\n
 \nTo ensure we have space and program supplies for each participant\, we a
 sk that you please register in advance. We look forward to seeing you at t
 he next café!\n\nDetails: 3rd Tuesday of the month from 11:00 am - 12:00 p
 m\n\nLocation: Hope United Church of Christ\, 6130 Old Telegraph Rd\, Alex
 andria\, VA 22310\n\n&nbsp\;\n<strong><a href='https://insightmemory.app.n
 eoncrm.com/eventReg.jsp?event=1933&' target='_blank' class='button' rel='n
 oreferrer noopener'>Sign Me Up!</a></strong>
X-WR-RELCALID:bd834bf6f030134d2196466ae71160e9
X-WR-TIMEZONE:America/New_York
BEGIN:VTIMEZONE
TZID:America/New_York
BEGIN:STANDARD
TZNAME:EST
DTSTART:20241103T020000
TZOFFSETFROM:-0400
TZOFFSETTO:-0500
RDATE:20251102T020000
END:STANDARD
BEGIN:DAYLIGHT
TZNAME:EDT
DTSTART:20240310T020000
TZOFFSETFROM:-0500
TZOFFSETTO:-0400
RDATE:20250309T020000
RDATE:20260308T020000
END:DAYLIGHT
END:VTIMEZONE
BEGIN:VEVENT
UID:2e2e76bb-7f3c-4ed0-a012-6247f04c653a
DTSTAMP:20260421T200244Z
DESCRIPTION:Aphasia Memory Café is a monthly social gathering for caregiver
 s & loved ones with progressive aphasia and mild memory loss hosted by Ins
 ight Memory Care Center. This cafe is a monthly engagement program of acti
 vities\, recreation\, peer support and socialization for individuals showi
 ng early signs of memory loss and progressive aphasia and their caregivers
 . \n\nEvery gathering is geared toward keeping the mind active during the 
 early stages of progressive aphasia and improving communication and connec
 tion between caregivers and loved ones to the greatest degree possible.\n
 \nTo ensure we have space and program supplies for each participant\, we a
 sk that you please register in advance. We look forward to seeing you at t
 he next café!\n\nDetails: 3rd Tuesday of the month from 11:00 am - 12:00 p
 m\n\nLocation: Hope United Church of Christ\, 6130 Old Telegraph Rd\, Alex
 andria\, VA 22310\n\n&nbsp\;\n<strong><a href='https://insightmemory.app.n
 eoncrm.com/eventReg.jsp?event=1933&' target='_blank' class='button' rel='n
 oreferrer noopener'>Sign Me Up!</a></strong>
DTSTART;TZID=America/New_York:20241119T110000
DTEND;TZID=America/New_York:20241119T120000
LOCATION:Hope United Church of Christ\,  6130 Old Telegraph Rd\, Alexandria
 \, VA 22310 US
SUMMARY:Aphasia Memory Café
END:VEVENT
END:VCALENDAR
