BEGIN:VCALENDAR
VERSION:2.0
PRODID:-//www.insightmcc.org//NONSGML kigkonsult.se iCalcreator 2.30.10//
CALSCALE:GREGORIAN
METHOD:PUBLISH
UID:e60b4416-8383-427d-b29c-c1e21045aee2
X-WR-CALDESC:A discussion on changes that occur with age\, warning signs of
  a memory problem\, and what to do if someone you love is experiencing sym
 ptoms.\n\nThis event is presented by the Insight Memory Care Center Educat
 ion team at the First Baptist Church of Vienna. Please contact the event c
 ontact listed below to RSVP.
X-WR-RELCALID:4529d6bcd16bb71835d8ddc179a4322d
X-WR-TIMEZONE:America/New_York
BEGIN:VTIMEZONE
TZID:America/New_York
BEGIN:STANDARD
TZNAME:EST
DTSTART:20241103T020000
TZOFFSETFROM:-0400
TZOFFSETTO:-0500
RDATE:20251102T020000
END:STANDARD
BEGIN:DAYLIGHT
TZNAME:EDT
DTSTART:20240310T020000
TZOFFSETFROM:-0500
TZOFFSETTO:-0400
RDATE:20250309T020000
RDATE:20260308T020000
END:DAYLIGHT
END:VTIMEZONE
BEGIN:VEVENT
UID:e6d65dad-4ed9-4306-a18f-c5ec800ec4ca
DTSTAMP:20260421T201326Z
DESCRIPTION:A discussion on changes that occur with age\, warning signs of 
 a memory problem\, and what to do if someone you love is experiencing symp
 toms.\n\nThis event is presented by the Insight Memory Care Center Educati
 on team at the First Baptist Church of Vienna. Please contact the event co
 ntact listed below to RSVP.
DTSTART;TZID=America/New_York:20241119T120000
DTEND;TZID=America/New_York:20241119T130000
LOCATION:First Baptist Church of Vienna\, 450 Orchard Street\, NW\, Vienna\
 , VA 22180 US
SUMMARY:Normal Aging vs. Dementia
END:VEVENT
END:VCALENDAR
