BEGIN:VCALENDAR
VERSION:2.0
PRODID:-//www.insightmcc.org//NONSGML kigkonsult.se iCalcreator 2.30.10//
CALSCALE:GREGORIAN
METHOD:PUBLISH
UID:1c07ba25-e143-45cb-b4b8-9b6b5d8ff836
X-WR-CALDESC:Searching for the perfect gift for your loved one in a senior 
 living community? This is an interactive demonstration where you will be a
 ble to touch and feel a variety of wonderful gift ideas for your loved one
  and learn how these purposeful gifts can foster more joy and connection d
 uring visits with your loved ones.\n\nPlease register at the link below!
X-WR-RELCALID:7c05318feb2a46c992a736ccec56e6e4
X-WR-TIMEZONE:America/New_York
BEGIN:VTIMEZONE
TZID:America/New_York
BEGIN:STANDARD
TZNAME:EST
DTSTART:20241103T020000
TZOFFSETFROM:-0400
TZOFFSETTO:-0500
RDATE:20251102T020000
END:STANDARD
BEGIN:DAYLIGHT
TZNAME:EDT
DTSTART:20240310T020000
TZOFFSETFROM:-0500
TZOFFSETTO:-0400
RDATE:20250309T020000
RDATE:20260308T020000
END:DAYLIGHT
END:VTIMEZONE
BEGIN:VEVENT
UID:4fb10371-139c-4aa9-b158-dbfac5ba2d00
DTSTAMP:20260421T200918Z
DESCRIPTION:Searching for the perfect gift for your loved one in a senior l
 iving community? This is an interactive demonstration where you will be ab
 le to touch and feel a variety of wonderful gift ideas for your loved one 
 and learn how these purposeful gifts can foster more joy and connection du
 ring visits with your loved ones.\n\nPlease register at the link below!
DTSTART;TZID=America/New_York:20241119T170000
DTEND;TZID=America/New_York:20241119T180000
LOCATION:The Kensington Reston\, 11501 Sunrise Valley Dr\, Reston\, VA 2019
 1 US
SUMMARY:Purposeful Gifts for Your Loved One in an Assisted Living or Memory
  Care Community
END:VEVENT
END:VCALENDAR
