BEGIN:VCALENDAR
VERSION:2.0
PRODID:-//www.insightmcc.org//NONSGML kigkonsult.se iCalcreator 2.30.10//
CALSCALE:GREGORIAN
METHOD:PUBLISH
UID:64b66122-ce81-4f54-a768-e6ce8cb4ecf0
X-WR-CALDESC:All are welcome to attend this support group for family and fr
 iends of those with dementia and other memory impairments. This group allo
 ws care partners to problem-solve\, discuss issues\, and connect with each
  other regarding dementia in every-day life. This group will also include 
 practical resources and guest speakers throughout the year. \n\nThis event
  is free of charge\, but please make sure to register with Molly Riedel.\n
 \n<b> Please note the November group will be held on 11/20 due to the Than
 ksgiving Holiday. Thank you! </b>
X-WR-RELCALID:eb4db22d7ccdb9a1c1a332f691192675
X-WR-TIMEZONE:America/New_York
BEGIN:VTIMEZONE
TZID:America/New_York
BEGIN:STANDARD
TZNAME:EST
DTSTART:20241103T020000
TZOFFSETFROM:-0400
TZOFFSETTO:-0500
RDATE:20251102T020000
END:STANDARD
BEGIN:DAYLIGHT
TZNAME:EDT
DTSTART:20240310T020000
TZOFFSETFROM:-0500
TZOFFSETTO:-0400
RDATE:20250309T020000
RDATE:20260308T020000
END:DAYLIGHT
END:VTIMEZONE
BEGIN:VEVENT
UID:6ef4dc1a-4187-4d57-965c-8b8bda9d9010
DTSTAMP:20260421T200256Z
DESCRIPTION:All are welcome to attend this support group for family and fri
 ends of those with dementia and other memory impairments. This group allow
 s care partners to problem-solve\, discuss issues\, and connect with each 
 other regarding dementia in every-day life. This group will also include p
 ractical resources and guest speakers throughout the year. \n\nThis event 
 is free of charge\, but please make sure to register with Molly Riedel.\n
 \n<b> Please note the November group will be held on 11/20 due to the Than
 ksgiving Holiday. Thank you! </b>
DTSTART;TZID=America/New_York:20241120T190000
DTEND;TZID=America/New_York:20241120T200000
LOCATION:Arcola Church\,  24757 Arcola Mills Drive\, Sterling\, AL 20166 US
SUMMARY:Dulles Caregiver Support Group
END:VEVENT
END:VCALENDAR
