BEGIN:VCALENDAR
VERSION:2.0
PRODID:-//www.insightmcc.org//NONSGML kigkonsult.se iCalcreator 2.30.10//
CALSCALE:GREGORIAN
METHOD:PUBLISH
UID:1a97aef3-c586-42a5-8c4e-42659e3d371c
X-WR-CALDESC:Friends of Insight is hosting a 'Friendsgiving Lunch' for part
 icipants of the Day Center. This is a fantastic opportunity to connect wit
 h current participants in a relaxed atmosphere.\n\n&nbsp\;\n<strong><a hre
 f='https://insightmemory.app.neoncrm.com/eventReg.jsp?event=1414&' target=
 '_blank' class='button' rel='noreferrer noopener'>Sign Me Up!</a></strong>
 \n
X-WR-RELCALID:ff20d6154f9edbece53066e83fa3748e
X-WR-TIMEZONE:America/New_York
BEGIN:VTIMEZONE
TZID:America/New_York
BEGIN:STANDARD
TZNAME:EST
DTSTART:20241103T020000
TZOFFSETFROM:-0400
TZOFFSETTO:-0500
RDATE:20251102T020000
END:STANDARD
BEGIN:DAYLIGHT
TZNAME:EDT
DTSTART:20240310T020000
TZOFFSETFROM:-0500
TZOFFSETTO:-0400
RDATE:20250309T020000
RDATE:20260308T020000
END:DAYLIGHT
END:VTIMEZONE
BEGIN:VEVENT
UID:6ff85c74-013a-4cc6-9cf6-c0d4b4cc2e27
DTSTAMP:20260421T205417Z
DESCRIPTION:Friends of Insight is hosting a 'Friendsgiving Lunch' for parti
 cipants of the Day Center. This is a fantastic opportunity to connect with
  current participants in a relaxed atmosphere.\n\n&nbsp\;\n<strong><a href
 ='https://insightmemory.app.neoncrm.com/eventReg.jsp?event=1414&' target='
 _blank' class='button' rel='noreferrer noopener'>Sign Me Up!</a></strong>
 \n
DTSTART;TZID=America/New_York:20241120T113000
DTEND;TZID=America/New_York:20241120T133000
LOCATION:Insight Memory Care Center - Fairfax \, 3953 Pender Drive\, Suite 
 100\, Fairfax\, VA 22030 US
SUMMARY:Friends of Insight - Friendsgiving Lunch
END:VEVENT
END:VCALENDAR
