BEGIN:VCALENDAR
VERSION:2.0
PRODID:-//www.insightmcc.org//NONSGML kigkonsult.se iCalcreator 2.30.10//
CALSCALE:GREGORIAN
METHOD:PUBLISH
UID:f82f332a-e030-4547-8f03-26dfc7b8c842
X-WR-CALDESC:Learn more about age-related changes in memory and learning\, 
 and practices to keep your brain sharp! Learn what to expect\, what’s “nor
 mal\,” and when it’s time to seek a doctor’s input.\n\nThis program is pre
 sented by the Insight Memory Care Center team at Ilda's Overlook Senior Re
 sidences.
X-WR-RELCALID:5082f6731c1c55dbfbeb8c05cf5574f3
X-WR-TIMEZONE:America/New_York
BEGIN:VTIMEZONE
TZID:America/New_York
BEGIN:STANDARD
TZNAME:EST
DTSTART:20241103T020000
TZOFFSETFROM:-0400
TZOFFSETTO:-0500
RDATE:20251102T020000
END:STANDARD
BEGIN:DAYLIGHT
TZNAME:EDT
DTSTART:20240310T020000
TZOFFSETFROM:-0500
TZOFFSETTO:-0400
RDATE:20250309T020000
RDATE:20260308T020000
END:DAYLIGHT
END:VTIMEZONE
BEGIN:VEVENT
UID:10429e6c-3852-478d-a182-30ca093d2264
DTSTAMP:20260421T220023Z
DESCRIPTION:Learn more about age-related changes in memory and learning\, a
 nd practices to keep your brain sharp! Learn what to expect\, what’s “norm
 al\,” and when it’s time to seek a doctor’s input.\n\nThis program is pres
 ented by the Insight Memory Care Center team at Ilda's Overlook Senior Res
 idences.
DTSTART;TZID=America/New_York:20241202T110000
DTEND;TZID=America/New_York:20241202T120000
LOCATION:Ilda's Overlook Senior Residences\, 10055 Braddock Rd\, Fairfax\, 
 VA 22032 US
SUMMARY:Better Brain Health as You Age
END:VEVENT
END:VCALENDAR
