BEGIN:VCALENDAR
VERSION:2.0
PRODID:-//www.insightmcc.org//NONSGML kigkonsult.se iCalcreator 2.30.10//
CALSCALE:GREGORIAN
METHOD:PUBLISH
UID:9cd79da4-4515-4751-a514-e8a6a7cee673
X-WR-CALDESC:<h6>Celebrate Giving Tuesday with us!</h6>\n\n<strong>Watch Li
 ve!</strong>\nMark your calendars! We'll be live on Facebook on Tuesday\, 
 Dec 3rd to celebrate and share gifts and resources with you! \n\n<em><stro
 ng>10:00 am</strong></em>\n<strong>Kick Off - Welcome to Giving Tuesday!</
 strong>\n\n<em><strong>12:00 pm</strong></em>\n<strong>Activities for the 
 Holidays</strong>\nJoin us for a demonstration of a dementia friendly holi
 day craft that can be modified for everyone to enjoy and discussion about 
 how you can incorporate reminiscing. \n\n<em><strong>2:00 pm</strong></em>
 \n<strong>The Music of Insight</strong>\nWe will be highlighting how we in
 corporate music into our programming!\n\n\n\n<strong><a href='https://face
 book.com/InsightMCC' target='_blank' class='button' rel='noreferrer noopen
 er'>Watch on Facebook!</a></strong>\n\n&nbsp\;\n<p></p>\n<p></p>\n\n\n<p><
 /p>\n<p></p>\n\n<h6>About Giving Tuesday</h6>\nGiving Tuesday is a global 
 generosity movement unleashing the power of radical generosity. Giving Tue
 sday was created in 2012 as a simple idea: a day that encourages people to
  do good. Since then\, it has grown into a year-round global movement that
  inspires hundreds of millions of people to give\, collaborate\, and celeb
 rate generosity.\n\n<strong>Give Today!</strong>\n#GivingTuesday is a glob
 al day of giving\, celebrating all acts of giving. Your gift ensures more 
 families get the care\, education\, and support needed right from the begi
 nning of the journey. Research has shown that cognitive engagement activit
 ies can have long lasting\, positive effects on cognition. \n\n<strong><a 
 href='https://insightmcc.org/donate' target='_blank' class='button' rel='n
 oreferrer noopener'>Give Today!</a></strong>\n
X-WR-RELCALID:9065b6f3760a94dca40e4f83b11d2d7c
X-WR-TIMEZONE:America/New_York
BEGIN:VTIMEZONE
TZID:America/New_York
BEGIN:STANDARD
TZNAME:EST
DTSTART:20241103T020000
TZOFFSETFROM:-0400
TZOFFSETTO:-0500
RDATE:20251102T020000
END:STANDARD
BEGIN:DAYLIGHT
TZNAME:EDT
DTSTART:20240310T020000
TZOFFSETFROM:-0500
TZOFFSETTO:-0400
RDATE:20250309T020000
RDATE:20260308T020000
END:DAYLIGHT
END:VTIMEZONE
BEGIN:VEVENT
UID:240c9e62-6c1f-45aa-95bd-9dc8432fef8d
DTSTAMP:20260421T220103Z
DESCRIPTION:<h6>Celebrate Giving Tuesday with us!</h6>\n\n<strong>Watch Liv
 e!</strong>\nMark your calendars! We'll be live on Facebook on Tuesday\, D
 ec 3rd to celebrate and share gifts and resources with you! \n\n<em><stron
 g>10:00 am</strong></em>\n<strong>Kick Off - Welcome to Giving Tuesday!</s
 trong>\n\n<em><strong>12:00 pm</strong></em>\n<strong>Activities for the H
 olidays</strong>\nJoin us for a demonstration of a dementia friendly holid
 ay craft that can be modified for everyone to enjoy and discussion about h
 ow you can incorporate reminiscing. \n\n<em><strong>2:00 pm</strong></em>
 \n<strong>The Music of Insight</strong>\nWe will be highlighting how we in
 corporate music into our programming!\n\n\n\n<strong><a href='https://face
 book.com/InsightMCC' target='_blank' class='button' rel='noreferrer noopen
 er'>Watch on Facebook!</a></strong>\n\n&nbsp\;\n<p></p>\n<p></p>\n\n\n<p><
 /p>\n<p></p>\n\n<h6>About Giving Tuesday</h6>\nGiving Tuesday is a global 
 generosity movement unleashing the power of radical generosity. Giving Tue
 sday was created in 2012 as a simple idea: a day that encourages people to
  do good. Since then\, it has grown into a year-round global movement that
  inspires hundreds of millions of people to give\, collaborate\, and celeb
 rate generosity.\n\n<strong>Give Today!</strong>\n#GivingTuesday is a glob
 al day of giving\, celebrating all acts of giving. Your gift ensures more 
 families get the care\, education\, and support needed right from the begi
 nning of the journey. Research has shown that cognitive engagement activit
 ies can have long lasting\, positive effects on cognition. \n\n<strong><a 
 href='https://insightmcc.org/donate' target='_blank' class='button' rel='n
 oreferrer noopener'>Give Today!</a></strong>\n
DTSTART;TZID=America/New_York:20241203T060000
DTEND;TZID=America/New_York:20241203T060001
LOCATION:https://facebook.com/InsightMCC
SUMMARY:Giving Tuesday: Celebrate with Us!
END:VEVENT
END:VCALENDAR
