BEGIN:VCALENDAR
VERSION:2.0
PRODID:-//www.insightmcc.org//NONSGML kigkonsult.se iCalcreator 2.30.10//
CALSCALE:GREGORIAN
METHOD:PUBLISH
UID:1e166be3-06c3-4370-89e4-da9f1588af8c
X-WR-CALDESC:Care Partner Meet-Ups are an informal way for current families
  to meet\, chat\, and get to know one another! You are welcome to stop in 
 and stay as long as you'd like. We offer meet-ups in both Fairfax and Ster
 ling once a month.\n\nIf you are in need of respite care for your loved on
 e with dementia please reach out to support@insightmcc.org so  so we can h
 elp you identify options to fit your family.\n\n&nbsp\;\n<strong><a href='
 https://insightmemory.app.neoncrm.com/eventReg.jsp?event=1579&' class='but
 ton'>Sign Me Up!</a></strong>\n\n\n<b> Please note\, the November and Dece
 mber 2024 meet-ups will be combined and held on 12/4 due to the upcoming h
 olidays! This will be the final meet-up for 2024. </b>
X-WR-RELCALID:a6f9588c54d28c1cf2ee95d6d081c609
X-WR-TIMEZONE:America/New_York
BEGIN:VTIMEZONE
TZID:America/New_York
BEGIN:STANDARD
TZNAME:EST
DTSTART:20241103T020000
TZOFFSETFROM:-0400
TZOFFSETTO:-0500
RDATE:20251102T020000
END:STANDARD
BEGIN:DAYLIGHT
TZNAME:EDT
DTSTART:20240310T020000
TZOFFSETFROM:-0500
TZOFFSETTO:-0400
RDATE:20250309T020000
RDATE:20260308T020000
END:DAYLIGHT
END:VTIMEZONE
BEGIN:VEVENT
UID:1e26a4ad-2440-4500-b938-52cd44594bae
DTSTAMP:20260421T215354Z
DESCRIPTION:Care Partner Meet-Ups are an informal way for current families 
 to meet\, chat\, and get to know one another! You are welcome to stop in a
 nd stay as long as you'd like. We offer meet-ups in both Fairfax and Sterl
 ing once a month.\n\nIf you are in need of respite care for your loved one
  with dementia please reach out to support@insightmcc.org so  so we can he
 lp you identify options to fit your family.\n\n&nbsp\;\n<strong><a href='h
 ttps://insightmemory.app.neoncrm.com/eventReg.jsp?event=1579&' class='butt
 on'>Sign Me Up!</a></strong>\n\n\n<b> Please note\, the November and Decem
 ber 2024 meet-ups will be combined and held on 12/4 due to the upcoming ho
 lidays! This will be the final meet-up for 2024. </b>
DTSTART;TZID=America/New_York:20241204T100000
DTEND;TZID=America/New_York:20241204T110000
LOCATION:Ridgetop Coffee and Tea\, 21631 Ridgetop Circle\, Sterling\, VA 20
 166 US
SUMMARY:Sterling Care Partner Meet-Up
END:VEVENT
END:VCALENDAR
