BEGIN:VCALENDAR
VERSION:2.0
PRODID:-//www.insightmcc.org//NONSGML kigkonsult.se iCalcreator 2.30.10//
CALSCALE:GREGORIAN
METHOD:PUBLISH
UID:c139fcbd-c864-4121-ae4f-45a087fa68b0
X-WR-CALDESC:Join Insight for a FREE\, Saturday morning training event to h
 ear from experts in their fields\, and learn more about essential caregivi
 ng topics\, all in one place!\n\nFor the December 2024 bootcamp we will be
  covering what you need to know to get your ducks in a row from legal\, fi
 nancial and medical experts.\n\nOur topics will include Questions for the 
 Neurologist with Dr. Jennifer Pauldurai\, Financial Planning with Memory B
 anc and Navigating Legal Questions with Legacy Lawyers.\n\n\n*** Respite c
 are available*** Please contact Melissa at: melissa.long@insightmcc.org by
  November 29th to request respite care for this event.\n\n\n&nbsp\;<strong
 ><a href='https://insightmemory.app.neoncrm.com/eventReg.jsp?event=1967&' 
 target='_blank' class='button' rel='noreferrer noopener'>Sign Me Up!</a></
 strong>
X-WR-RELCALID:c58935da077e8cb6deb17b8cba86c374
X-WR-TIMEZONE:America/New_York
BEGIN:VTIMEZONE
TZID:America/New_York
BEGIN:STANDARD
TZNAME:EST
DTSTART:20241103T020000
TZOFFSETFROM:-0400
TZOFFSETTO:-0500
RDATE:20251102T020000
END:STANDARD
BEGIN:DAYLIGHT
TZNAME:EDT
DTSTART:20240310T020000
TZOFFSETFROM:-0500
TZOFFSETTO:-0400
RDATE:20250309T020000
RDATE:20260308T020000
END:DAYLIGHT
END:VTIMEZONE
BEGIN:VEVENT
UID:5fa5f554-746c-47b4-834d-8d165d743e7c
DTSTAMP:20260421T214446Z
DESCRIPTION:Join Insight for a FREE\, Saturday morning training event to he
 ar from experts in their fields\, and learn more about essential caregivin
 g topics\, all in one place!\n\nFor the December 2024 bootcamp we will be 
 covering what you need to know to get your ducks in a row from legal\, fin
 ancial and medical experts.\n\nOur topics will include Questions for the N
 eurologist with Dr. Jennifer Pauldurai\, Financial Planning with Memory Ba
 nc and Navigating Legal Questions with Legacy Lawyers.\n\n\n*** Respite ca
 re available*** Please contact Melissa at: melissa.long@insightmcc.org by 
 November 29th to request respite care for this event.\n\n\n&nbsp\;<strong>
 <a href='https://insightmemory.app.neoncrm.com/eventReg.jsp?event=1967&' t
 arget='_blank' class='button' rel='noreferrer noopener'>Sign Me Up!</a></s
 trong>
DTSTART;TZID=America/New_York:20241207T090000
DTEND;TZID=America/New_York:20241207T120000
LOCATION:Insight Memory Care Center - Fairfax \, 3955 Pender Drive\, Suite 
 100\, Fairfax\, VA 22030 US
SUMMARY:Caregiver Bootcamp
END:VEVENT
END:VCALENDAR
