BEGIN:VCALENDAR
VERSION:2.0
PRODID:-//www.insightmcc.org//NONSGML kigkonsult.se iCalcreator 2.30.10//
CALSCALE:GREGORIAN
METHOD:PUBLISH
UID:505b01a8-04d6-4d31-b10a-dc683089f50b
X-WR-CALDESC:For a person living with dementia\, living at home can give yo
 u a sense of independence. By making some changes to your home\, you are a
 ble to continue with the routines or activities you enjoy. Each of these c
 hanges can help you stay safe\, active\, and allow you to continue to enjo
 y your home.\n\n<b>This class will be held both virtually and in-person in
  Fairfax. Please select your attendance type when you register.</b>\n\nThe
  in-person session will be held in the Mazawey Education and Support Cente
 r\, 3955 Pender Drive\, Suite 100\, Fairfax\, VA 22030.\n\nVirtual attende
 es will receive Zoom information prior to the class.\n\nThis program is a 
 part of our monthly Care Partner Training series. All sessions are FREE\, 
 and held the second Wednesday of each month from 1:00 to 2:30 pm.\n\n\n&nb
 sp\;\n<strong><a href='https://insightmemory.app.neoncrm.com/eventReg.jsp?
 event=1754&' class='button'>Sign Me Up - In Person</a></strong>\n\n<strong
 ><a href='https://insightmemory.app.neoncrm.com/eventReg.jsp?event=1759&' 
 class='button'>Sign Me Up - Virtual</a></strong>\n\n\n<b>Presenter</b>\n<i
 >Dr. Lisa Bagby OTD\, OTR/L\, MHA</i>\n\nLisa Bagby\, OTD\, OTR/L\, MHA is
  an occupational therapist\, educator\, health administrator\, and advocat
 e. She has worked with adult and older adult populations for more than 15 
 years and has a passion for helping people age in place\, maximizing their
  independence and quality of life. Lisa is an advocate and is passionate a
 bout education\; ensuring people have the information they need to make em
 powered and informed decisions.\n\n
X-WR-RELCALID:f7d9346000d7bb79591545d9b43ceda9
X-WR-TIMEZONE:America/New_York
BEGIN:VTIMEZONE
TZID:America/New_York
BEGIN:STANDARD
TZNAME:EST
DTSTART:20241103T020000
TZOFFSETFROM:-0400
TZOFFSETTO:-0500
RDATE:20251102T020000
END:STANDARD
BEGIN:DAYLIGHT
TZNAME:EDT
DTSTART:20240310T020000
TZOFFSETFROM:-0500
TZOFFSETTO:-0400
RDATE:20250309T020000
RDATE:20260308T020000
END:DAYLIGHT
END:VTIMEZONE
BEGIN:VEVENT
UID:17ef4290-316a-4a03-8c4a-dfde871ed041
DTSTAMP:20260421T214645Z
DESCRIPTION:For a person living with dementia\, living at home can give you
  a sense of independence. By making some changes to your home\, you are ab
 le to continue with the routines or activities you enjoy. Each of these ch
 anges can help you stay safe\, active\, and allow you to continue to enjoy
  your home.\n\n<b>This class will be held both virtually and in-person in 
 Fairfax. Please select your attendance type when you register.</b>\n\nThe 
 in-person session will be held in the Mazawey Education and Support Center
 \, 3955 Pender Drive\, Suite 100\, Fairfax\, VA 22030.\n\nVirtual attendee
 s will receive Zoom information prior to the class.\n\nThis program is a p
 art of our monthly Care Partner Training series. All sessions are FREE\, a
 nd held the second Wednesday of each month from 1:00 to 2:30 pm.\n\n\n&nbs
 p\;\n<strong><a href='https://insightmemory.app.neoncrm.com/eventReg.jsp?e
 vent=1754&' class='button'>Sign Me Up - In Person</a></strong>\n\n<strong>
 <a href='https://insightmemory.app.neoncrm.com/eventReg.jsp?event=1759&' c
 lass='button'>Sign Me Up - Virtual</a></strong>\n\n\n<b>Presenter</b>\n<i>
 Dr. Lisa Bagby OTD\, OTR/L\, MHA</i>\n\nLisa Bagby\, OTD\, OTR/L\, MHA is 
 an occupational therapist\, educator\, health administrator\, and advocate
 . She has worked with adult and older adult populations for more than 15 y
 ears and has a passion for helping people age in place\, maximizing their 
 independence and quality of life. Lisa is an advocate and is passionate ab
 out education\; ensuring people have the information they need to make emp
 owered and informed decisions.\n\n
DTSTART;TZID=America/New_York:20241211T130000
DTEND;TZID=America/New_York:20241211T143000
LOCATION:Hybrid! Virtual and in-person at Insight Memory Care Center - Fair
 fax
SUMMARY:Creating a Dementia Friendly Home
END:VEVENT
END:VCALENDAR
