BEGIN:VCALENDAR
VERSION:2.0
PRODID:-//www.insightmcc.org//NONSGML kigkonsult.se iCalcreator 2.30.10//
CALSCALE:GREGORIAN
METHOD:PUBLISH
UID:b988ab5e-9693-450c-8cd4-270f8f1c8d8f
X-WR-CALDESC:Join Equality Loudoun for our favorite little tradition! The h
 olidays can be stressful and hard\, but cookies can help! Bake them or buy
  them\, bring a batch and take home a box! Get together with new friends a
 nd old for a little warmth in the chilly season.\n\n\nDate: Sunday\, Decem
 ber 15\nTime: 2-4pm\nLocation: Insight - Sterling 45945 Center Oak Plaza S
 uite 190\, Sterling VA 20166
X-WR-RELCALID:c5db1a0bfaac77d252d9e3d4a1951c88
X-WR-TIMEZONE:America/New_York
BEGIN:VTIMEZONE
TZID:America/New_York
BEGIN:STANDARD
TZNAME:EST
DTSTART:20241103T020000
TZOFFSETFROM:-0400
TZOFFSETTO:-0500
RDATE:20251102T020000
END:STANDARD
BEGIN:DAYLIGHT
TZNAME:EDT
DTSTART:20240310T020000
TZOFFSETFROM:-0500
TZOFFSETTO:-0400
RDATE:20250309T020000
RDATE:20260308T020000
END:DAYLIGHT
END:VTIMEZONE
BEGIN:VEVENT
UID:32272ff9-115a-41db-95ff-c3c47a3a8022
DTSTAMP:20260421T215526Z
DESCRIPTION:Join Equality Loudoun for our favorite little tradition! The ho
 lidays can be stressful and hard\, but cookies can help! Bake them or buy 
 them\, bring a batch and take home a box! Get together with new friends an
 d old for a little warmth in the chilly season.\n\n\nDate: Sunday\, Decemb
 er 15\nTime: 2-4pm\nLocation: Insight - Sterling 45945 Center Oak Plaza Su
 ite 190\, Sterling VA 20166
DTSTART;TZID=America/New_York:20241215T140000
DTEND;TZID=America/New_York:20241215T160000
LOCATION:Insight Memory Care Center - Sterling\, 45945 Center Oak Plaza\, S
 uite 190\, Sterling\, VA 20194 US
SUMMARY:Equality Loudoun's Holiday Cookie Exchange
END:VEVENT
END:VCALENDAR
