BEGIN:VCALENDAR
VERSION:2.0
PRODID:-//www.insightmcc.org//NONSGML kigkonsult.se iCalcreator 2.30.10//
CALSCALE:GREGORIAN
METHOD:PUBLISH
UID:6e99cc18-fba0-41db-97a0-badd6bb58261
X-WR-CALDESC:Learn the basics of dementia\, including Alzheimer’s disease a
 nd other dementias. While not everyone travels the same path\, come and le
 arn about the general stages to help you anticipate future changes.\n\nThi
 s event is presented by the Insight Memory Care Center Education team at t
 he First Baptist Church of Vienna. Please contact the event contact listed
  below to RSVP.
X-WR-RELCALID:3e0c1a1d3437d184073d0fbcae6c4ff6
X-WR-TIMEZONE:America/New_York
BEGIN:VTIMEZONE
TZID:America/New_York
BEGIN:STANDARD
TZNAME:EST
DTSTART:20241103T020000
TZOFFSETFROM:-0400
TZOFFSETTO:-0500
RDATE:20251102T020000
END:STANDARD
BEGIN:DAYLIGHT
TZNAME:EDT
DTSTART:20240310T020000
TZOFFSETFROM:-0500
TZOFFSETTO:-0400
RDATE:20250309T020000
RDATE:20260308T020000
END:DAYLIGHT
END:VTIMEZONE
BEGIN:VEVENT
UID:f9d68644-c1b8-4998-94c6-fa80dc9454bc
DTSTAMP:20260421T214430Z
DESCRIPTION:Learn the basics of dementia\, including Alzheimer’s disease an
 d other dementias. While not everyone travels the same path\, come and lea
 rn about the general stages to help you anticipate future changes.\n\nThis
  event is presented by the Insight Memory Care Center Education team at th
 e First Baptist Church of Vienna. Please contact the event contact listed 
 below to RSVP.
DTSTART;TZID=America/New_York:20241217T120000
DTEND;TZID=America/New_York:20241217T130000
LOCATION:First Baptist Church of Vienna\, 450 Orchard Street\, NW\, Vienna\
 , VA 22180 US
SUMMARY:Dementia 101
END:VEVENT
END:VCALENDAR
