BEGIN:VCALENDAR
VERSION:2.0
PRODID:-//www.insightmcc.org//NONSGML kigkonsult.se iCalcreator 2.30.10//
CALSCALE:GREGORIAN
METHOD:PUBLISH
UID:38245fe9-97ff-49e2-87ad-fa854c7eac2b
X-WR-CALDESC:Meet Me: Community Outings are free\, and give families living
  with mild cognitive impairment (MCI) or early stage memory loss an opport
 unity to connect and stay engaged in the community\, in a safe and support
 ive way. Outings are designed for both the diagnosed individual and a care
  partner or friend to participate together\, and meet new friends in the p
 rocess!\n\nMorven Park is a 1\,000 acre historic estate located at Leesbur
 g\, Virginia. Known as the “Central Park” of Loudoun County\, Morven Park 
 offers exquisite scenery\, formal boxwood gardens\, the Morven Park Intern
 ational Equestrian Center\, the iconic Greek Revival mansion\, museums\, a
 nd hiking trails. We will be touring the Davis Mansion where we will hear 
 stories of the civic and social lives of former Virginia Governor Westmore
 land Davis and his wife\, Marguerite\, during the first half of the 20th c
 entury. Following the tour\, we will gather in the Vaughn Room of the Coac
 h House Complex for some holiday refreshments and fellowship with each oth
 er!\n\n\n<i>*Please note - We will send additional info about finding the 
 correct building and parking the week before the meet-up. Visitors of all 
 ages should wear appropriate footwear and expect to encounter uneven or in
 clined surfaces of various materials such as gravel\, grass\, brick\, asph
 alt\, or sidewalk. Within the historic mansion museum\, there are stairs (
 a flight of 12 steps with a landing to rest\, if needed\, followed by 8 mo
 re steps) to the second floor. A similar staircase is encountered to desce
 nd at the conclusion of the tour.*</i>\n\nMany thanks to I'm Still Here fo
 r providing funding for this program so that families can participate for 
 free!\n\n&nbsp\;\n<strong><a href='https://insightmemory.app.neoncrm.com/e
 ventReg.jsp?event=1923&' target='_blank' class='button' rel='noreferrer no
 opener'>Sign Me Up!</a></strong>\n
X-WR-RELCALID:03e63bafb077c977d12d6fd314429535
X-WR-TIMEZONE:America/New_York
BEGIN:VTIMEZONE
TZID:America/New_York
BEGIN:STANDARD
TZNAME:EST
DTSTART:20241103T020000
TZOFFSETFROM:-0400
TZOFFSETTO:-0500
RDATE:20251102T020000
END:STANDARD
BEGIN:DAYLIGHT
TZNAME:EDT
DTSTART:20240310T020000
TZOFFSETFROM:-0500
TZOFFSETTO:-0400
RDATE:20250309T020000
RDATE:20260308T020000
END:DAYLIGHT
END:VTIMEZONE
BEGIN:VEVENT
UID:5c2772eb-c868-42bd-9064-4c86a5bcecb4
DTSTAMP:20260421T215919Z
DESCRIPTION:Meet Me: Community Outings are free\, and give families living 
 with mild cognitive impairment (MCI) or early stage memory loss an opportu
 nity to connect and stay engaged in the community\, in a safe and supporti
 ve way. Outings are designed for both the diagnosed individual and a care 
 partner or friend to participate together\, and meet new friends in the pr
 ocess!\n\nMorven Park is a 1\,000 acre historic estate located at Leesburg
 \, Virginia. Known as the “Central Park” of Loudoun County\, Morven Park o
 ffers exquisite scenery\, formal boxwood gardens\, the Morven Park Interna
 tional Equestrian Center\, the iconic Greek Revival mansion\, museums\, an
 d hiking trails. We will be touring the Davis Mansion where we will hear s
 tories of the civic and social lives of former Virginia Governor Westmorel
 and Davis and his wife\, Marguerite\, during the first half of the 20th ce
 ntury. Following the tour\, we will gather in the Vaughn Room of the Coach
  House Complex for some holiday refreshments and fellowship with each othe
 r!\n\n\n<i>*Please note - We will send additional info about finding the c
 orrect building and parking the week before the meet-up. Visitors of all a
 ges should wear appropriate footwear and expect to encounter uneven or inc
 lined surfaces of various materials such as gravel\, grass\, brick\, aspha
 lt\, or sidewalk. Within the historic mansion museum\, there are stairs (a
  flight of 12 steps with a landing to rest\, if needed\, followed by 8 mor
 e steps) to the second floor. A similar staircase is encountered to descen
 d at the conclusion of the tour.*</i>\n\nMany thanks to I'm Still Here for
  providing funding for this program so that families can participate for f
 ree!\n\n&nbsp\;\n<strong><a href='https://insightmemory.app.neoncrm.com/ev
 entReg.jsp?event=1923&' target='_blank' class='button' rel='noreferrer noo
 pener'>Sign Me Up!</a></strong>\n
DTSTART;TZID=America/New_York:20241219T130000
DTEND;TZID=America/New_York:20241219T150000
LOCATION:Morven Park\, 17339 Southern Planter Ln\, Leesburg\, VA 20176 US
SUMMARY:Meet Me: At Morven Park
END:VEVENT
END:VCALENDAR
