BEGIN:VCALENDAR
VERSION:2.0
PRODID:-//www.insightmcc.org//NONSGML kigkonsult.se iCalcreator 2.30.10//
CALSCALE:GREGORIAN
METHOD:PUBLISH
UID:3498e2d2-0185-4fb7-9cff-5929e9c23149
X-WR-CALDESC:Insight will be closed for New Years. Happy Holidays!
X-WR-RELCALID:3dc50bf996eb9af2c44c0f7a3b07af78
X-WR-TIMEZONE:America/New_York
BEGIN:VTIMEZONE
TZID:America/New_York
BEGIN:STANDARD
TZNAME:EST
DTSTART:20241103T020000
TZOFFSETFROM:-0400
TZOFFSETTO:-0500
RDATE:20251102T020000
END:STANDARD
BEGIN:DAYLIGHT
TZNAME:EDT
DTSTART:20240310T020000
TZOFFSETFROM:-0500
TZOFFSETTO:-0400
RDATE:20250309T020000
RDATE:20260308T020000
END:DAYLIGHT
END:VTIMEZONE
BEGIN:VEVENT
UID:a75e057c-20a6-4f04-be5f-a38f1a523c35
DTSTAMP:20260421T214818Z
DESCRIPTION:Insight will be closed for New Years. Happy Holidays!
DTSTART;TZID=America/New_York:20241231T060000
DTEND;TZID=America/New_York:20250101T060001
LOCATION:
SUMMARY:Insight Closed
END:VEVENT
END:VCALENDAR
