BEGIN:VCALENDAR
VERSION:2.0
PRODID:-//www.insightmcc.org//NONSGML kigkonsult.se iCalcreator 2.30.10//
CALSCALE:GREGORIAN
METHOD:PUBLISH
UID:3b08dc78-1102-4000-824d-6d1664075923
X-WR-CALDESC:Care Partner Meet-Ups are an informal way for current families
  to meet\, chat\, and get to know one another! You are welcome to stop in 
 and stay as long as you'd like. We offer meet-ups in both Fairfax and Ster
 ling once a month.\n\nIf you are in need of respite care for your loved on
 e with dementia please reach out to support@insightmcc.org so we can make 
 sure to have support for you!\n\n<b>Please note\, for 2025 Sterling Meet-U
 ps will be the first Wednesday of each month from 1:30-2:45pm EXCEPT Janua
 ry\, which will be Friday\, Jan. 3 1:30-2:45pm. </b>\n\n&nbsp\;\n<strong><
 a href='https://insightmemory.app.neoncrm.com/eventReg.jsp?event=2003&' ta
 rget='_blank' class='button' rel='noreferrer noopener'>Sign Me Up!</a></st
 rong>\n
X-WR-RELCALID:1df833747b6ab5eb9cc92613326db8ee
X-WR-TIMEZONE:America/New_York
BEGIN:VTIMEZONE
TZID:America/New_York
BEGIN:STANDARD
TZNAME:EST
DTSTART:20241103T020000
TZOFFSETFROM:-0400
TZOFFSETTO:-0500
RDATE:20251102T020000
END:STANDARD
BEGIN:DAYLIGHT
TZNAME:EDT
DTSTART:20240310T020000
TZOFFSETFROM:-0500
TZOFFSETTO:-0400
RDATE:20250309T020000
RDATE:20260308T020000
END:DAYLIGHT
END:VTIMEZONE
BEGIN:VEVENT
UID:7681ec60-93e9-4b58-8658-908d1598922e
DTSTAMP:20260421T232115Z
DESCRIPTION:Care Partner Meet-Ups are an informal way for current families 
 to meet\, chat\, and get to know one another! You are welcome to stop in a
 nd stay as long as you'd like. We offer meet-ups in both Fairfax and Sterl
 ing once a month.\n\nIf you are in need of respite care for your loved one
  with dementia please reach out to support@insightmcc.org so we can make s
 ure to have support for you!\n\n<b>Please note\, for 2025 Sterling Meet-Up
 s will be the first Wednesday of each month from 1:30-2:45pm EXCEPT Januar
 y\, which will be Friday\, Jan. 3 1:30-2:45pm. </b>\n\n&nbsp\;\n<strong><a
  href='https://insightmemory.app.neoncrm.com/eventReg.jsp?event=2003&' tar
 get='_blank' class='button' rel='noreferrer noopener'>Sign Me Up!</a></str
 ong>\n
DTSTART;TZID=America/New_York:20250103T133000
DTEND;TZID=America/New_York:20250103T144500
LOCATION:Ridgetop Coffee and Tea\, 21631 Ridgetop Circle\, Sterling\, VA 20
 166 US
SUMMARY:Sterling Care Partner Meet-Up
END:VEVENT
END:VCALENDAR
