BEGIN:VCALENDAR
VERSION:2.0
PRODID:-//www.insightmcc.org//NONSGML kigkonsult.se iCalcreator 2.30.10//
CALSCALE:GREGORIAN
METHOD:PUBLISH
UID:b1d6ee1a-feb7-478d-9203-88ac09ae317b
X-WR-CALDESC:<b> This event is cancelled due to winter weather. Stay safe! 
 </b>\n\n\nAll are welcome to attend this support group for family and frie
 nds of those with dementia and other memory impairments. This group allows
  care partners to problem-solve\, discuss issues\, and connect with each o
 ther regarding dementia in every-day life. This group will also include pr
 actical resources and guest speakers throughout the year.\n\nThis group is
  held the first Monday of the month in person at the Lorton Library. All s
 upport groups are free and open to the public.\n\n&nbsp\;\n<strong><a href
 ='https://insightmemory.app.neoncrm.com/eventReg.jsp?event=1739&' target='
 _blank' class='button' rel='noreferrer noopener'>Sign Me Up!</a></strong>
 \n
X-WR-RELCALID:2fa8a931a0ecc8b2d3e66be1560ae438
X-WR-TIMEZONE:America/New_York
BEGIN:VTIMEZONE
TZID:America/New_York
BEGIN:STANDARD
TZNAME:EST
DTSTART:20241103T020000
TZOFFSETFROM:-0400
TZOFFSETTO:-0500
RDATE:20251102T020000
END:STANDARD
BEGIN:DAYLIGHT
TZNAME:EDT
DTSTART:20240310T020000
TZOFFSETFROM:-0500
TZOFFSETTO:-0400
RDATE:20250309T020000
RDATE:20260308T020000
END:DAYLIGHT
END:VTIMEZONE
BEGIN:VEVENT
UID:cc1f6499-cc89-4f6b-a59a-9b94ed04bd98
DTSTAMP:20260421T233635Z
DESCRIPTION:<b> This event is cancelled due to winter weather. Stay safe! <
 /b>\n\n\nAll are welcome to attend this support group for family and frien
 ds of those with dementia and other memory impairments. This group allows 
 care partners to problem-solve\, discuss issues\, and connect with each ot
 her regarding dementia in every-day life. This group will also include pra
 ctical resources and guest speakers throughout the year.\n\nThis group is 
 held the first Monday of the month in person at the Lorton Library. All su
 pport groups are free and open to the public.\n\n&nbsp\;\n<strong><a href=
 'https://insightmemory.app.neoncrm.com/eventReg.jsp?event=1739&' target='_
 blank' class='button' rel='noreferrer noopener'>Sign Me Up!</a></strong>\n
DTSTART;TZID=America/New_York:20250106T190000
DTEND;TZID=America/New_York:20250106T200000
LOCATION:Lorton Library - Lorton Meeting Room\, 9520 Richmond Hwy\, Lorton\
 , VA 22079 US
SUMMARY:Dementia Support Group - Lorton Library (CANCELLED)
END:VEVENT
END:VCALENDAR
