BEGIN:VCALENDAR
VERSION:2.0
PRODID:-//www.insightmcc.org//NONSGML kigkonsult.se iCalcreator 2.30.10//
CALSCALE:GREGORIAN
METHOD:PUBLISH
UID:eb310f5f-5aee-4a55-a8df-43cd51213354
X-WR-CALDESC:This Care Partner Training will provide an in-depth understand
 ing of Social Security Disability Insurance (SSDI) for individuals diagnos
 ed with early onset dementia. Learn more and gain valuable insights into n
 avigating the complexities of SSDI claims\, ensuring you can effectively a
 dvocate for your rights and secure the financial support you or your loved
  one needs.\n\n<b>Due to the recent snowy weather\, this class will be hel
 d only virtually.</b>\nVirtual attendees will receive Zoom information pri
 or to the class.\n\n<strong><em>If you had previously signed up for the in
 -person session\, you will receive an email with log-in instructions.</em>
 </strong>\n\n\nThis program is a part of our monthly Care Partner Training
  series. All sessions are FREE\, and held the second Wednesday of each mon
 th from 1:00 to 2:30 pm.\n\n\n&nbsp\;\n\n<strong><a href='https://insightm
 emory.app.neoncrm.com/eventReg.jsp?event=2048&' class='button'>Sign Me Up 
 - Virtual</a></strong>\n\n&nbsp\;\n<b>Presenter</b>\n<i>Sharon Napper\, Ce
 rtified Dementia Practitioner and Professional Trainer\, Alzheimer’s Assoc
 iation-Greater Richmond Chapter</i>\n\nSharon Napper has been a resident o
 f Virginia since 1999. She has served her community as a special education
  teacher assistant\, pediatric nurse\, cardiac acute care nurse\, orthoped
 ic step-down nurse\, and a medical surgery clinical nurse for 16 years in 
 the central Virginia area. She has seen the need for more education and ou
 treach in the community dealing with our great struggles with food deserts
 \, high blood pressure\, diabetes\, and Alzheimer’s and as a whole healthc
 are inequality in the commonwealth of Virginia. She is a Certified Dementi
 a Practitioner and Professional Trainer for the state with the Greater Ric
 hmond Chapter Alzheimer’s Association.\n\n
X-WR-RELCALID:878be263dee621466e338e3d6fc8714e
X-WR-TIMEZONE:America/New_York
BEGIN:VTIMEZONE
TZID:America/New_York
BEGIN:STANDARD
TZNAME:EST
DTSTART:20241103T020000
TZOFFSETFROM:-0400
TZOFFSETTO:-0500
RDATE:20251102T020000
END:STANDARD
BEGIN:DAYLIGHT
TZNAME:EDT
DTSTART:20240310T020000
TZOFFSETFROM:-0500
TZOFFSETTO:-0400
RDATE:20250309T020000
RDATE:20260308T020000
END:DAYLIGHT
END:VTIMEZONE
BEGIN:VEVENT
UID:4790fc5b-ac93-48da-a73f-13a065edbb1d
DTSTAMP:20260421T233753Z
DESCRIPTION:This Care Partner Training will provide an in-depth understandi
 ng of Social Security Disability Insurance (SSDI) for individuals diagnose
 d with early onset dementia. Learn more and gain valuable insights into na
 vigating the complexities of SSDI claims\, ensuring you can effectively ad
 vocate for your rights and secure the financial support you or your loved 
 one needs.\n\n<b>Due to the recent snowy weather\, this class will be held
  only virtually.</b>\nVirtual attendees will receive Zoom information prio
 r to the class.\n\n<strong><em>If you had previously signed up for the in-
 person session\, you will receive an email with log-in instructions.</em><
 /strong>\n\n\nThis program is a part of our monthly Care Partner Training 
 series. All sessions are FREE\, and held the second Wednesday of each mont
 h from 1:00 to 2:30 pm.\n\n\n&nbsp\;\n\n<strong><a href='https://insightme
 mory.app.neoncrm.com/eventReg.jsp?event=2048&' class='button'>Sign Me Up -
  Virtual</a></strong>\n\n&nbsp\;\n<b>Presenter</b>\n<i>Sharon Napper\, Cer
 tified Dementia Practitioner and Professional Trainer\, Alzheimer’s Associ
 ation-Greater Richmond Chapter</i>\n\nSharon Napper has been a resident of
  Virginia since 1999. She has served her community as a special education 
 teacher assistant\, pediatric nurse\, cardiac acute care nurse\, orthopedi
 c step-down nurse\, and a medical surgery clinical nurse for 16 years in t
 he central Virginia area. She has seen the need for more education and out
 reach in the community dealing with our great struggles with food deserts\
 , high blood pressure\, diabetes\, and Alzheimer’s and as a whole healthca
 re inequality in the commonwealth of Virginia. She is a Certified Dementia
  Practitioner and Professional Trainer for the state with the Greater Rich
 mond Chapter Alzheimer’s Association.\n\n
DTSTART;TZID=America/New_York:20250108T130000
DTEND;TZID=America/New_York:20250108T143000
LOCATION:Virtual!
SUMMARY:Social Security Disability Benefits (SSDI) for Early Onset Dementia
  Diagnosis
END:VEVENT
END:VCALENDAR
