BEGIN:VCALENDAR
VERSION:2.0
PRODID:-//www.insightmcc.org//NONSGML kigkonsult.se iCalcreator 2.30.10//
CALSCALE:GREGORIAN
METHOD:PUBLISH
UID:4af16ccc-413c-44e9-af9e-865d13f11e4e
X-WR-CALDESC:<strong>The January session has been rescheduled for snowy wea
 ther. Please join us on 1/29 at 3:00 pm!</strong>\n\nThis group will offer
  a safe\, welcoming and private setting for caregivers to share their care
 giving experiences\, connect with others going through the same journey an
 d receive insight from an expert. There will also be group discussions and
  educational presentations about relevant caregiving topics.
X-WR-RELCALID:9155eb39505f1cfc38774e4fa88c1113
X-WR-TIMEZONE:America/New_York
BEGIN:VTIMEZONE
TZID:America/New_York
BEGIN:STANDARD
TZNAME:EST
DTSTART:20241103T020000
TZOFFSETFROM:-0400
TZOFFSETTO:-0500
RDATE:20251102T020000
END:STANDARD
BEGIN:DAYLIGHT
TZNAME:EDT
DTSTART:20240310T020000
TZOFFSETFROM:-0500
TZOFFSETTO:-0400
RDATE:20250309T020000
RDATE:20260308T020000
END:DAYLIGHT
END:VTIMEZONE
BEGIN:VEVENT
UID:448a8e43-54d4-43aa-973e-dbc2731b7e5b
DTSTAMP:20260421T233527Z
DESCRIPTION:<strong>The January session has been rescheduled for snowy weat
 her. Please join us on 1/29 at 3:00 pm!</strong>\n\nThis group will offer 
 a safe\, welcoming and private setting for caregivers to share their careg
 iving experiences\, connect with others going through the same journey and
  receive insight from an expert. There will also be group discussions and 
 educational presentations about relevant caregiving topics.
DTSTART;TZID=America/New_York:20250109T150000
DTEND;TZID=America/New_York:20250109T160000
LOCATION:Great Falls Assisted Living\, 1121 Reston Ave\, Herndon\, VA 20170
  US
SUMMARY:Caregiver Support Group - WILL BE RESCHEDULED
END:VEVENT
END:VCALENDAR
