BEGIN:VCALENDAR
VERSION:2.0
PRODID:-//www.insightmcc.org//NONSGML kigkonsult.se iCalcreator 2.30.10//
CALSCALE:GREGORIAN
METHOD:PUBLISH
UID:c1ab6f69-1f12-4fe5-b398-2f324af72cf9
X-WR-CALDESC:The café is an opportunity for caregivers and their loved one 
 with mild cognitive impairment (MCI) or in the early to early mid-stage of
  their dementia journey to meet with others for support\, companionship\, 
 and fun! The program provides structured activities to promote reminiscenc
 e\, cognition\, and engagement. There is also time to share in conversatio
 n and get to know others in a safe\, supportive environment.\n\nThis café 
 meets in the Ashburn Library on the 3rd Monday of the month.\n\nTo ensure 
 we have space and program supplies for each participant\, we ask that you 
 please register in advance. We look forward to seeing you at the next café
 !\n\n<b> Please note that the January cafe will be held on 1/14 due to the
  MLK Jr. holiday! </b>\n\n&nbsp\;\n<strong><a href='https://insightmemory.
 app.neoncrm.com/eventReg.jsp?event=2093&' target='_blank' class='button' r
 el='noreferrer noopener'>Sign Me Up!</a></strong>
X-WR-RELCALID:7afcff1c27ebd8cd8c45db96b4a5af01
X-WR-TIMEZONE:America/New_York
BEGIN:VTIMEZONE
TZID:America/New_York
BEGIN:STANDARD
TZNAME:EST
DTSTART:20241103T020000
TZOFFSETFROM:-0400
TZOFFSETTO:-0500
RDATE:20251102T020000
END:STANDARD
BEGIN:DAYLIGHT
TZNAME:EDT
DTSTART:20240310T020000
TZOFFSETFROM:-0500
TZOFFSETTO:-0400
RDATE:20250309T020000
RDATE:20260308T020000
END:DAYLIGHT
END:VTIMEZONE
BEGIN:VEVENT
UID:c97cd0c4-0a3f-4d04-b4f0-84e9a9fc0b42
DTSTAMP:20260421T233317Z
DESCRIPTION:The café is an opportunity for caregivers and their loved one w
 ith mild cognitive impairment (MCI) or in the early to early mid-stage of 
 their dementia journey to meet with others for support\, companionship\, a
 nd fun! The program provides structured activities to promote reminiscence
 \, cognition\, and engagement. There is also time to share in conversation
  and get to know others in a safe\, supportive environment.\n\nThis café m
 eets in the Ashburn Library on the 3rd Monday of the month.\n\nTo ensure w
 e have space and program supplies for each participant\, we ask that you p
 lease register in advance. We look forward to seeing you at the next café!
 \n\n<b> Please note that the January cafe will be held on 1/14 due to the 
 MLK Jr. holiday! </b>\n\n&nbsp\;\n<strong><a href='https://insightmemory.a
 pp.neoncrm.com/eventReg.jsp?event=2093&' target='_blank' class='button' re
 l='noreferrer noopener'>Sign Me Up!</a></strong>
DTSTART;TZID=America/New_York:20250114T110000
DTEND;TZID=America/New_York:20250114T120000
LOCATION:Ashburn Library\, 43316 Hay Road\, Ashburn\, VA 20147 US
SUMMARY:Ashburn Library Memory Café
END:VEVENT
END:VCALENDAR
