BEGIN:VCALENDAR
VERSION:2.0
PRODID:-//www.insightmcc.org//NONSGML kigkonsult.se iCalcreator 2.30.10//
CALSCALE:GREGORIAN
METHOD:PUBLISH
UID:bc93b14b-079f-41bb-b5be-f85a85aef58f
X-WR-CALDESC:This group is specifically designed for individuals who have r
 eceived a recent diagnosis of mild cognitive impairment (MCI) or who are i
 n the early stages of memory loss. Get to know others who are in a similar
  situation\, learn more about your diagnosis\, and have the opportunity to
  share personal concerns and successes.\n\nThis group meets at Insight - F
 airfax on the third Wednesday. All support groups are free and open to the
  public. Please register and you'll receive reminders to join us!\n\n&nbsp
 \;\n<strong><a href='https://insightmemory.app.neoncrm.com/eventReg.jsp?ev
 ent=1714&' target='_blank' class='button' rel='noreferrer noopener'>Sign M
 e Up!</a></strong>
X-WR-RELCALID:65042a3e71775a4789d0097556d96864
X-WR-TIMEZONE:America/New_York
BEGIN:VTIMEZONE
TZID:America/New_York
BEGIN:STANDARD
TZNAME:EST
DTSTART:20241103T020000
TZOFFSETFROM:-0400
TZOFFSETTO:-0500
RDATE:20251102T020000
END:STANDARD
BEGIN:DAYLIGHT
TZNAME:EDT
DTSTART:20240310T020000
TZOFFSETFROM:-0500
TZOFFSETTO:-0400
RDATE:20250309T020000
RDATE:20260308T020000
END:DAYLIGHT
END:VTIMEZONE
BEGIN:VEVENT
UID:b760f6fd-d45e-4950-8556-379d4396622b
DTSTAMP:20260421T231706Z
DESCRIPTION:This group is specifically designed for individuals who have re
 ceived a recent diagnosis of mild cognitive impairment (MCI) or who are in
  the early stages of memory loss. Get to know others who are in a similar 
 situation\, learn more about your diagnosis\, and have the opportunity to 
 share personal concerns and successes.\n\nThis group meets at Insight - Fa
 irfax on the third Wednesday. All support groups are free and open to the 
 public. Please register and you'll receive reminders to join us!\n\n&nbsp\
 ;\n<strong><a href='https://insightmemory.app.neoncrm.com/eventReg.jsp?eve
 nt=1714&' target='_blank' class='button' rel='noreferrer noopener'>Sign Me
  Up!</a></strong>
DTSTART;TZID=America/New_York:20250115T123000
DTEND;TZID=America/New_York:20250115T133000
LOCATION:Insight Memory Care Center\, 3955 Pender Drive\, Suite 100\, Fairf
 ax\, VA 22030 US
SUMMARY:MCI Support Group
END:VEVENT
END:VCALENDAR
