BEGIN:VCALENDAR
VERSION:2.0
PRODID:-//www.insightmcc.org//NONSGML kigkonsult.se iCalcreator 2.30.10//
CALSCALE:GREGORIAN
METHOD:PUBLISH
UID:adc9e880-695f-4d3f-bd32-f7dc2ec0223c
X-WR-CALDESC:2025 is already here! Bring your calendars and ideas. Help pla
 n the FOI event calendar for 2025!\n\n&nbsp\;\n<strong><a href='https://in
 sightmemory.app.neoncrm.com/eventReg.jsp?event=1419&' target='_blank' clas
 s='button' rel='noreferrer noopener'>Sign Me Up!</a></strong>
X-WR-RELCALID:42c491cd836072caf2e9fe03dfac8fe4
X-WR-TIMEZONE:America/New_York
BEGIN:VTIMEZONE
TZID:America/New_York
BEGIN:STANDARD
TZNAME:EST
DTSTART:20241103T020000
TZOFFSETFROM:-0400
TZOFFSETTO:-0500
RDATE:20251102T020000
END:STANDARD
BEGIN:DAYLIGHT
TZNAME:EDT
DTSTART:20240310T020000
TZOFFSETFROM:-0500
TZOFFSETTO:-0400
RDATE:20250309T020000
RDATE:20260308T020000
END:DAYLIGHT
END:VTIMEZONE
BEGIN:VEVENT
UID:0758f38b-4e43-4f0c-8afe-20fd3e668a24
DTSTAMP:20260421T233829Z
DESCRIPTION:2025 is already here! Bring your calendars and ideas. Help plan
  the FOI event calendar for 2025!\n\n&nbsp\;\n<strong><a href='https://ins
 ightmemory.app.neoncrm.com/eventReg.jsp?event=1419&' target='_blank' class
 ='button' rel='noreferrer noopener'>Sign Me Up!</a></strong>
DTSTART;TZID=America/New_York:20250115T113000
DTEND;TZID=America/New_York:20250115T133000
LOCATION:Insight Memory Care Center - Fairfax \, 3953 Pender Drive\, Suite 
 100\, Fairfax\, VA 22030 US
SUMMARY:Friends of Insight Kick-off Meeting 2025
END:VEVENT
END:VCALENDAR
