BEGIN:VCALENDAR
VERSION:2.0
PRODID:-//www.insightmcc.org//NONSGML kigkonsult.se iCalcreator 2.30.10//
CALSCALE:GREGORIAN
METHOD:PUBLISH
UID:9bf4fd4b-2f84-485a-968e-fa8a817e5f4c
X-WR-CALDESC:<h6>Event Postponed!</h6>\n<strong>Check back for new date soo
 n!</strong>\n\n\n<i>Worried about your loved ones falling victim to fraud?
 </i>\nAmericans over 60 are increasingly falling victim to crimes of fraud
  perpetrated online and over the phone at rates that add up to billions in
  losses each year\, and federal investigators are warning that the scammer
 s are becoming more sophisticated in the ploys they use to get their victi
 ms to hand over large sums of money. \n\nWe will discuss the connection be
 tween elder fraud and other schemes. The presentation will include example
 s of social engineering scams\, how to avoid falling victim to fraud\, and
  the steps someone should take if they have been victimized. We will also 
 touch on a brief overview of the Internet Crime Complaint Center (IC3) and
  the Financial Fraud Kill Chain (FFKC).\n\n\n\n<b>Zoom link provided upon 
 registration.</b>\n\n&nbsp\;<strong><a href='https://insightmemory.app.neo
 ncrm.com/eventReg.jsp?event=2043&' target='_blank' class='button' rel='nor
 eferrer noopener'>Sign Me Up!</a></strong>\n\n\n<b> **Please note that thi
 s session cannot be recorded\, so plan to attend at the scheduled time.**<
 /b>\n\n<b>Presenter</b>\n<i>Special Agent Gregory Settducati</i>\n\nGreg S
 ettducati became a FBI Special Agent (SA) in 2012 and was assigned to the 
 Washington Field Office (WFO). From 2012-2017\, SA Settducati worked natio
 nal security investigations\, after which he transferred to WFO’s Transnat
 ional Organized Crime squad. SA Settducati led multiple criminal enterpris
 e investigations with a financial fraud focus\, and was a recipient of the
  2020 Public Service Award presented by the U.S. Attorney’s Office for the
  Eastern District of Virginia. In 2020\, SA Settducati was promoted to a s
 upervisory position and served as a liaison to a multi-agency center focus
 ed on combatting Transnational Organized Crime. In 2022\, SA Settducati wa
 s selected as the supervisor for one of WFO’s financial crime squads with 
 a specific focus on corporate fraud\, intellectual property rights\, as we
 ll as other fraud matters.\n
X-WR-RELCALID:c6b3363539e41568de10cd1d630c018a
X-WR-TIMEZONE:America/New_York
BEGIN:VTIMEZONE
TZID:America/New_York
BEGIN:STANDARD
TZNAME:EST
DTSTART:20241103T020000
TZOFFSETFROM:-0400
TZOFFSETTO:-0500
RDATE:20251102T020000
END:STANDARD
BEGIN:DAYLIGHT
TZNAME:EDT
DTSTART:20240310T020000
TZOFFSETFROM:-0500
TZOFFSETTO:-0400
RDATE:20250309T020000
RDATE:20260308T020000
END:DAYLIGHT
END:VTIMEZONE
BEGIN:VEVENT
UID:3f231c8f-60bb-4dda-9346-1632fdc6e702
DTSTAMP:20260421T232242Z
DESCRIPTION:<h6>Event Postponed!</h6>\n<strong>Check back for new date soon
 !</strong>\n\n\n<i>Worried about your loved ones falling victim to fraud?<
 /i>\nAmericans over 60 are increasingly falling victim to crimes of fraud 
 perpetrated online and over the phone at rates that add up to billions in 
 losses each year\, and federal investigators are warning that the scammers
  are becoming more sophisticated in the ploys they use to get their victim
 s to hand over large sums of money. \n\nWe will discuss the connection bet
 ween elder fraud and other schemes. The presentation will include examples
  of social engineering scams\, how to avoid falling victim to fraud\, and 
 the steps someone should take if they have been victimized. We will also t
 ouch on a brief overview of the Internet Crime Complaint Center (IC3) and 
 the Financial Fraud Kill Chain (FFKC).\n\n\n\n<b>Zoom link provided upon r
 egistration.</b>\n\n&nbsp\;<strong><a href='https://insightmemory.app.neon
 crm.com/eventReg.jsp?event=2043&' target='_blank' class='button' rel='nore
 ferrer noopener'>Sign Me Up!</a></strong>\n\n\n<b> **Please note that this
  session cannot be recorded\, so plan to attend at the scheduled time.**</
 b>\n\n<b>Presenter</b>\n<i>Special Agent Gregory Settducati</i>\n\nGreg Se
 ttducati became a FBI Special Agent (SA) in 2012 and was assigned to the W
 ashington Field Office (WFO). From 2012-2017\, SA Settducati worked nation
 al security investigations\, after which he transferred to WFO’s Transnati
 onal Organized Crime squad. SA Settducati led multiple criminal enterprise
  investigations with a financial fraud focus\, and was a recipient of the 
 2020 Public Service Award presented by the U.S. Attorney’s Office for the 
 Eastern District of Virginia. In 2020\, SA Settducati was promoted to a su
 pervisory position and served as a liaison to a multi-agency center focuse
 d on combatting Transnational Organized Crime. In 2022\, SA Settducati was
  selected as the supervisor for one of WFO’s financial crime squads with a
  specific focus on corporate fraud\, intellectual property rights\, as wel
 l as other fraud matters.\n
DTSTART;TZID=America/New_York:20250116T190000
DTEND;TZID=America/New_York:20250116T200000
LOCATION:Virtual! Zoom link provided upon registration.
SUMMARY:Elder Fraud Prevention - Virtual Presentation POSTPONED
END:VEVENT
END:VCALENDAR
