BEGIN:VCALENDAR
VERSION:2.0
PRODID:-//www.insightmcc.org//NONSGML kigkonsult.se iCalcreator 2.30.10//
CALSCALE:GREGORIAN
METHOD:PUBLISH
UID:567999fd-01e4-41fe-84e5-ee439a827c04
X-WR-CALDESC:<h6>New to Insight Memory Care Center? Want to learn more?</h6
 >\n\nEvents are offered on the 3rd Thursday of the month from 9:30 am to 1
 0:30 am. Come and see our programs in action\, meet the staff\, and learn 
 more about resources available.\n\n9:30-10:00 am | Meet and Greet\n10:00-1
 0:30 am | Tour of Insight Programs in Action\n\n\n&nbsp\;\n<strong><a href
 ='https://insightmemory.app.neoncrm.com/eventReg.jsp?event=2033&' class='b
 utton'>Sign Me Up!</a></strong>
X-WR-RELCALID:a42fbb42a76a0dce9f3323b374d26842
X-WR-TIMEZONE:America/New_York
BEGIN:VTIMEZONE
TZID:America/New_York
BEGIN:STANDARD
TZNAME:EST
DTSTART:20241103T020000
TZOFFSETFROM:-0400
TZOFFSETTO:-0500
RDATE:20251102T020000
END:STANDARD
BEGIN:DAYLIGHT
TZNAME:EDT
DTSTART:20240310T020000
TZOFFSETFROM:-0500
TZOFFSETTO:-0400
RDATE:20250309T020000
RDATE:20260308T020000
END:DAYLIGHT
END:VTIMEZONE
BEGIN:VEVENT
UID:5c030319-9e56-4297-b05d-2b42b5ad766f
DTSTAMP:20260421T231406Z
DESCRIPTION:<h6>New to Insight Memory Care Center? Want to learn more?</h6>
 \n\nEvents are offered on the 3rd Thursday of the month from 9:30 am to 10
 :30 am. Come and see our programs in action\, meet the staff\, and learn m
 ore about resources available.\n\n9:30-10:00 am | Meet and Greet\n10:00-10
 :30 am | Tour of Insight Programs in Action\n\n\n&nbsp\;\n<strong><a href=
 'https://insightmemory.app.neoncrm.com/eventReg.jsp?event=2033&' class='bu
 tton'>Sign Me Up!</a></strong>
DTSTART;TZID=America/New_York:20250116T093000
DTEND;TZID=America/New_York:20250116T103000
LOCATION:Insight Memory Care Center - Fairfax (Main Building)\, 3953 Pender
  Drive Suite 100\, Fairfax\, VA 22030 US
SUMMARY:Insight in Action
END:VEVENT
END:VCALENDAR
