BEGIN:VCALENDAR
VERSION:2.0
PRODID:-//www.insightmcc.org//NONSGML kigkonsult.se iCalcreator 2.30.10//
CALSCALE:GREGORIAN
METHOD:PUBLISH
UID:8d26e621-f025-4fd0-bac5-747eb0571297
X-WR-CALDESC:Insight Memory Care Center will offer free\, confidential memo
 ry screenings and educational materials to people with concerns about thei
 r memory or who want to check their memory now for future comparison.\n\nS
 ign up for a specific time slot at the link below\; slots are available ea
 ch half-hour.\n\n\n&nbsp\;\n<strong><a href='https://insightmemory.app.neo
 ncrm.com/eventReg.jsp?event=2063&' target='_blank' class='button' rel='nor
 eferrer noopener'>Sign Me Up!</a></strong>
X-WR-RELCALID:7bb949bf959a5bf879eee99a042ce0a6
X-WR-TIMEZONE:America/New_York
BEGIN:VTIMEZONE
TZID:America/New_York
BEGIN:STANDARD
TZNAME:EST
DTSTART:20241103T020000
TZOFFSETFROM:-0400
TZOFFSETTO:-0500
RDATE:20251102T020000
END:STANDARD
BEGIN:DAYLIGHT
TZNAME:EDT
DTSTART:20240310T020000
TZOFFSETFROM:-0500
TZOFFSETTO:-0400
RDATE:20250309T020000
RDATE:20260308T020000
END:DAYLIGHT
END:VTIMEZONE
BEGIN:VEVENT
UID:58fcae5d-f31d-489c-bf78-22b791ca2c5d
DTSTAMP:20260421T231945Z
DESCRIPTION:Insight Memory Care Center will offer free\, confidential memor
 y screenings and educational materials to people with concerns about their
  memory or who want to check their memory now for future comparison.\n\nSi
 gn up for a specific time slot at the link below\; slots are available eac
 h half-hour.\n\n\n&nbsp\;\n<strong><a href='https://insightmemory.app.neon
 crm.com/eventReg.jsp?event=2063&' target='_blank' class='button' rel='nore
 ferrer noopener'>Sign Me Up!</a></strong>
DTSTART;TZID=America/New_York:20250117T143000
DTEND;TZID=America/New_York:20250117T170000
LOCATION:Ashburn Library\, 43316 Hay Road\, Ashburn\, VA 20147 US
SUMMARY:Memory Screenings at Ashburn Library
END:VEVENT
END:VCALENDAR
