BEGIN:VCALENDAR
VERSION:2.0
PRODID:-//www.insightmcc.org//NONSGML kigkonsult.se iCalcreator 2.30.10//
CALSCALE:GREGORIAN
METHOD:PUBLISH
UID:903134fd-a64a-41a4-8053-24a54b275c7c
X-WR-CALDESC:Insight will be closed for the Martin Luther King Jr Day holid
 ay.
X-WR-RELCALID:aeadf30dad5bc1887ee989bffc34b9b4
X-WR-TIMEZONE:America/New_York
BEGIN:VTIMEZONE
TZID:America/New_York
BEGIN:STANDARD
TZNAME:EST
DTSTART:20241103T020000
TZOFFSETFROM:-0400
TZOFFSETTO:-0500
RDATE:20251102T020000
END:STANDARD
BEGIN:DAYLIGHT
TZNAME:EDT
DTSTART:20240310T020000
TZOFFSETFROM:-0500
TZOFFSETTO:-0400
RDATE:20250309T020000
RDATE:20260308T020000
END:DAYLIGHT
END:VTIMEZONE
BEGIN:VEVENT
UID:19d4d3c1-19e6-42f6-81f7-9f2ce38b7333
DTSTAMP:20260421T231921Z
DESCRIPTION:Insight will be closed for the Martin Luther King Jr Day holida
 y.
DTSTART;TZID=America/New_York:20250120T060000
DTEND;TZID=America/New_York:20250120T060001
LOCATION:
SUMMARY:Insight Closed
END:VEVENT
END:VCALENDAR
