BEGIN:VCALENDAR
VERSION:2.0
PRODID:-//www.insightmcc.org//NONSGML kigkonsult.se iCalcreator 2.30.10//
CALSCALE:GREGORIAN
METHOD:PUBLISH
UID:c5650595-d1ba-47d1-b28c-94ebdf83d275
X-WR-CALDESC:Join us for a discussion about the importance of socialization
  when aging. Research has found that social support can play a significant
  role in overall health as people age. Spending time with friends and fami
 ly members can boost quality of life\, including both physical and mental 
 health.\n\nThis event is presented by the Insight Memory Care Center Educa
 tion team at the First Baptist Church of Vienna. Please contact the event 
 contact listed below to RSVP.
X-WR-RELCALID:515f92a956978d6dca64690547466c1c
X-WR-TIMEZONE:America/New_York
BEGIN:VTIMEZONE
TZID:America/New_York
BEGIN:STANDARD
TZNAME:EST
DTSTART:20241103T020000
TZOFFSETFROM:-0400
TZOFFSETTO:-0500
RDATE:20251102T020000
END:STANDARD
BEGIN:DAYLIGHT
TZNAME:EDT
DTSTART:20240310T020000
TZOFFSETFROM:-0500
TZOFFSETTO:-0400
RDATE:20250309T020000
RDATE:20260308T020000
END:DAYLIGHT
END:VTIMEZONE
BEGIN:VEVENT
UID:bac13515-4a13-4a86-b8d9-d1212b9ba07b
DTSTAMP:20260421T231645Z
DESCRIPTION:Join us for a discussion about the importance of socialization 
 when aging. Research has found that social support can play a significant 
 role in overall health as people age. Spending time with friends and famil
 y members can boost quality of life\, including both physical and mental h
 ealth.\n\nThis event is presented by the Insight Memory Care Center Educat
 ion team at the First Baptist Church of Vienna. Please contact the event c
 ontact listed below to RSVP.
DTSTART;TZID=America/New_York:20250121T120000
DTEND;TZID=America/New_York:20250121T130000
LOCATION:First Baptist Church of Vienna\, 450 Orchard Street\, NW\, Vienna\
 , VA 22180 US
SUMMARY:Importance of Socialization While Aging
END:VEVENT
END:VCALENDAR
