BEGIN:VCALENDAR
VERSION:2.0
PRODID:-//www.insightmcc.org//NONSGML kigkonsult.se iCalcreator 2.30.10//
CALSCALE:GREGORIAN
METHOD:PUBLISH
UID:004aa606-b5cf-4d27-938d-cfe59028d7ad
X-WR-CALDESC:<h6>Rescheduled event from 1/16!</h6>\n\n\n\n<i>Worried about 
 your loved ones falling victim to fraud?</i>\nAmericans over 60 are increa
 singly falling victim to crimes of fraud perpetrated online and over the p
 hone at rates that add up to billions in losses each year\, and federal in
 vestigators are warning that the scammers are becoming more sophisticated 
 in the ploys they use to get their victims to hand over large sums of mone
 y. \n\nWe will discuss the connection between elder fraud and other scheme
 s. The presentation will include examples of social engineering scams\, ho
 w to avoid falling victim to fraud\, and the steps someone should take if 
 they have been victimized. We will also touch on a brief overview of the I
 nternet Crime Complaint Center (IC3) and the Financial Fraud Kill Chain (F
 FKC).\n\n\n\n<b>Zoom link provided upon registration.</b>\n\n&nbsp\;<stron
 g><a href='https://insightmemory.app.neoncrm.com/eventReg.jsp?event=2043&'
  target='_blank' class='button' rel='noreferrer noopener'>Sign Me Up!</a><
 /strong>\n\n\n<b> **Please note that this session cannot be recorded\, so 
 plan to attend at the scheduled time.**</b>\n\n<b>Presenter</b>\n<i>Specia
 l Agent Gregory Settducati</i>\n\nGreg Settducati became a FBI Special Age
 nt (SA) in 2012 and was assigned to the Washington Field Office (WFO). Fro
 m 2012-2017\, SA Settducati worked national security investigations\, afte
 r which he transferred to WFO’s Transnational Organized Crime squad. SA Se
 ttducati led multiple criminal enterprise investigations with a financial 
 fraud focus\, and was a recipient of the 2020 Public Service Award present
 ed by the U.S. Attorney’s Office for the Eastern District of Virginia. In 
 2020\, SA Settducati was promoted to a supervisory position and served as 
 a liaison to a multi-agency center focused on combatting Transnational Org
 anized Crime. In 2022\, SA Settducati was selected as the supervisor for o
 ne of WFO’s financial crime squads with a specific focus on corporate frau
 d\, intellectual property rights\, as well as other fraud matters.\n
X-WR-RELCALID:661ce84d44289949c6e92f587551852b
X-WR-TIMEZONE:America/New_York
BEGIN:VTIMEZONE
TZID:America/New_York
BEGIN:STANDARD
TZNAME:EST
DTSTART:20241103T020000
TZOFFSETFROM:-0400
TZOFFSETTO:-0500
RDATE:20251102T020000
END:STANDARD
BEGIN:DAYLIGHT
TZNAME:EDT
DTSTART:20240310T020000
TZOFFSETFROM:-0500
TZOFFSETTO:-0400
RDATE:20250309T020000
RDATE:20260308T020000
END:DAYLIGHT
END:VTIMEZONE
BEGIN:VEVENT
UID:c37b054c-15b7-4e78-95a1-938a1137f8df
DTSTAMP:20260421T232304Z
DESCRIPTION:<h6>Rescheduled event from 1/16!</h6>\n\n\n\n<i>Worried about y
 our loved ones falling victim to fraud?</i>\nAmericans over 60 are increas
 ingly falling victim to crimes of fraud perpetrated online and over the ph
 one at rates that add up to billions in losses each year\, and federal inv
 estigators are warning that the scammers are becoming more sophisticated i
 n the ploys they use to get their victims to hand over large sums of money
 . \n\nWe will discuss the connection between elder fraud and other schemes
 . The presentation will include examples of social engineering scams\, how
  to avoid falling victim to fraud\, and the steps someone should take if t
 hey have been victimized. We will also touch on a brief overview of the In
 ternet Crime Complaint Center (IC3) and the Financial Fraud Kill Chain (FF
 KC).\n\n\n\n<b>Zoom link provided upon registration.</b>\n\n&nbsp\;<strong
 ><a href='https://insightmemory.app.neoncrm.com/eventReg.jsp?event=2043&' 
 target='_blank' class='button' rel='noreferrer noopener'>Sign Me Up!</a></
 strong>\n\n\n<b> **Please note that this session cannot be recorded\, so p
 lan to attend at the scheduled time.**</b>\n\n<b>Presenter</b>\n<i>Special
  Agent Gregory Settducati</i>\n\nGreg Settducati became a FBI Special Agen
 t (SA) in 2012 and was assigned to the Washington Field Office (WFO). From
  2012-2017\, SA Settducati worked national security investigations\, after
  which he transferred to WFO’s Transnational Organized Crime squad. SA Set
 tducati led multiple criminal enterprise investigations with a financial f
 raud focus\, and was a recipient of the 2020 Public Service Award presente
 d by the U.S. Attorney’s Office for the Eastern District of Virginia. In 2
 020\, SA Settducati was promoted to a supervisory position and served as a
  liaison to a multi-agency center focused on combatting Transnational Orga
 nized Crime. In 2022\, SA Settducati was selected as the supervisor for on
 e of WFO’s financial crime squads with a specific focus on corporate fraud
 \, intellectual property rights\, as well as other fraud matters.\n
DTSTART;TZID=America/New_York:20250123T190000
DTEND;TZID=America/New_York:20250123T200000
LOCATION:Virtual! Zoom link provided upon registration.
SUMMARY:Elder Fraud Prevention - Virtual Presentation (Rescheduled Date)
END:VEVENT
END:VCALENDAR
