BEGIN:VCALENDAR
VERSION:2.0
PRODID:-//www.insightmcc.org//NONSGML kigkonsult.se iCalcreator 2.30.10//
CALSCALE:GREGORIAN
METHOD:PUBLISH
UID:b866eeda-d0b7-471e-9996-a3b720238411
X-WR-CALDESC:Join IMCC for a free\, Saturday morning training event coverin
 g many essential caregiving topics!\n\nTopics and Presenters for the Janua
 ry Bootcamp:\n\n<strong>The Art of Activities and Engagement</strong>\n<em
 >Melissa Long\, Director of Education & Support at Insight</em>\nHow can y
 ou reconnect with someone with dementia? Keeping their current abilities i
 n mind\, learn ways to keep your loved one engaged in personalized activit
 ies.\n\n<strong>Making Confident Medical Decisions For Your Loved One</str
 ong>\n<em>Dr. Brittany Lamb</em>\nEveryday Dr. Lamb cares for a person liv
 ing with dementia in the ER. She will discuss how to be prepared if your l
 oved one goes to the hospital and what to know in order to make confident 
 medical decisions.\n\n<strong>Financial Planning</strong>\n<em>Memory Banc
 </em>\nWe will discuss practical financial planning strategies to manage t
 he unique costs associated with caregiving.\n\n\n&nbsp\;<strong><a href='h
 ttps://insightmemory.app.neoncrm.com/eventReg.jsp?event=1955&' target='_bl
 ank' class='button' rel='noreferrer noopener'>Sign Me Up!</a></strong>\n\n
 <i>*** Respite care available*** Please contact Melissa at: melissa.long@i
 nsightmcc.org by January 18th\, 2025 to request respite care for this even
 t.</i>\n\nMany thanks to our event sponsor\, Tall Oaks Assisted Living!\n
 \n
X-WR-RELCALID:e2dd77970ebb4c91d8882f4c7acabf7e
X-WR-TIMEZONE:America/New_York
BEGIN:VTIMEZONE
TZID:America/New_York
BEGIN:STANDARD
TZNAME:EST
DTSTART:20241103T020000
TZOFFSETFROM:-0400
TZOFFSETTO:-0500
RDATE:20251102T020000
END:STANDARD
BEGIN:DAYLIGHT
TZNAME:EDT
DTSTART:20240310T020000
TZOFFSETFROM:-0500
TZOFFSETTO:-0400
RDATE:20250309T020000
RDATE:20260308T020000
END:DAYLIGHT
END:VTIMEZONE
BEGIN:VEVENT
UID:577bba90-d8b2-4350-8999-4f9031d10919
DTSTAMP:20260421T231706Z
DESCRIPTION:Join IMCC for a free\, Saturday morning training event covering
  many essential caregiving topics!\n\nTopics and Presenters for the Januar
 y Bootcamp:\n\n<strong>The Art of Activities and Engagement</strong>\n<em>
 Melissa Long\, Director of Education & Support at Insight</em>\nHow can yo
 u reconnect with someone with dementia? Keeping their current abilities in
  mind\, learn ways to keep your loved one engaged in personalized activiti
 es.\n\n<strong>Making Confident Medical Decisions For Your Loved One</stro
 ng>\n<em>Dr. Brittany Lamb</em>\nEveryday Dr. Lamb cares for a person livi
 ng with dementia in the ER. She will discuss how to be prepared if your lo
 ved one goes to the hospital and what to know in order to make confident m
 edical decisions.\n\n<strong>Financial Planning</strong>\n<em>Memory Banc<
 /em>\nWe will discuss practical financial planning strategies to manage th
 e unique costs associated with caregiving.\n\n\n&nbsp\;<strong><a href='ht
 tps://insightmemory.app.neoncrm.com/eventReg.jsp?event=1955&' target='_bla
 nk' class='button' rel='noreferrer noopener'>Sign Me Up!</a></strong>\n\n<
 i>*** Respite care available*** Please contact Melissa at: melissa.long@in
 sightmcc.org by January 18th\, 2025 to request respite care for this event
 .</i>\n\nMany thanks to our event sponsor\, Tall Oaks Assisted Living!\n\n
DTSTART;TZID=America/New_York:20250125T090000
DTEND;TZID=America/New_York:20250125T120000
LOCATION:Insight Memory Care Center - Fairfax \, 3955 Pender Drive\, Suite 
 100\, Fairfax\, VA 22030 US
SUMMARY:Caregiver Bootcamp
END:VEVENT
END:VCALENDAR
