BEGIN:VCALENDAR
VERSION:2.0
PRODID:-//www.insightmcc.org//NONSGML kigkonsult.se iCalcreator 2.30.10//
CALSCALE:GREGORIAN
METHOD:PUBLISH
UID:7faffbed-f2e7-4e6d-8224-469d1737ae23
X-WR-CALDESC:A discussion on changes that occur with age\, warning signs of
  a memory problem\, and what to do if someone you love is experiencing sym
 ptoms.\n\nThis event is presented by the Insight Memory Care Center Educat
 ion team at the Vienna Community Center.\nPlease register at the link belo
 w.
X-WR-RELCALID:a0c2d4e0a637eff60ae1d4b91651949b
X-WR-TIMEZONE:America/New_York
BEGIN:VTIMEZONE
TZID:America/New_York
BEGIN:STANDARD
TZNAME:EST
DTSTART:20241103T020000
TZOFFSETFROM:-0400
TZOFFSETTO:-0500
RDATE:20251102T020000
END:STANDARD
BEGIN:DAYLIGHT
TZNAME:EDT
DTSTART:20240310T020000
TZOFFSETFROM:-0500
TZOFFSETTO:-0400
RDATE:20250309T020000
RDATE:20260308T020000
END:DAYLIGHT
END:VTIMEZONE
BEGIN:VEVENT
UID:85d60601-3b38-458e-b2cb-b97f07368411
DTSTAMP:20260421T233926Z
DESCRIPTION:A discussion on changes that occur with age\, warning signs of 
 a memory problem\, and what to do if someone you love is experiencing symp
 toms.\n\nThis event is presented by the Insight Memory Care Center Educati
 on team at the Vienna Community Center.\nPlease register at the link below
 .
DTSTART;TZID=America/New_York:20250127T100000
DTEND;TZID=America/New_York:20250127T110000
LOCATION:Vienna Community Center\, 120 Cherry St SE\, Vienna\, VA 22180 US
SUMMARY:Normal Aging vs. Dementia
END:VEVENT
END:VCALENDAR
