BEGIN:VCALENDAR
VERSION:2.0
PRODID:-//www.insightmcc.org//NONSGML kigkonsult.se iCalcreator 2.30.10//
CALSCALE:GREGORIAN
METHOD:PUBLISH
UID:9d3cccea-e1fa-41e2-8630-8e5ecf088d5f
X-WR-CALDESC:Meet Me: Community Outings are free\, and give families living
  with mild cognitive impairment (MCI) or early stage memory loss an opport
 unity to connect and stay engaged in the community\, in a safe and support
 ive way. Outings are designed for both the diagnosed individual and a care
  partner or friend to participate together\, and meet new friends in the p
 rocess!\n\nJoin us for chair yoga and teatime at Beloved Yoga!\n\n\n\n&nbs
 p\;\n<strong><a href='https://insightmemory.app.neoncrm.com/eventReg.jsp?e
 vent=1978&' target='_blank' class='button' rel='noreferrer noopener'>Sign 
 Me Up!</a></strong>
X-WR-RELCALID:6f9ed2fe6351d47f0f7695a2b0937b8e
X-WR-TIMEZONE:America/New_York
BEGIN:VTIMEZONE
TZID:America/New_York
BEGIN:STANDARD
TZNAME:EST
DTSTART:20241103T020000
TZOFFSETFROM:-0400
TZOFFSETTO:-0500
RDATE:20251102T020000
END:STANDARD
BEGIN:DAYLIGHT
TZNAME:EDT
DTSTART:20240310T020000
TZOFFSETFROM:-0500
TZOFFSETTO:-0400
RDATE:20250309T020000
RDATE:20260308T020000
END:DAYLIGHT
END:VTIMEZONE
BEGIN:VEVENT
UID:155c47f6-60d7-4d06-b2d9-68a7575a32ee
DTSTAMP:20260421T233635Z
DESCRIPTION:Meet Me: Community Outings are free\, and give families living 
 with mild cognitive impairment (MCI) or early stage memory loss an opportu
 nity to connect and stay engaged in the community\, in a safe and supporti
 ve way. Outings are designed for both the diagnosed individual and a care 
 partner or friend to participate together\, and meet new friends in the pr
 ocess!\n\nJoin us for chair yoga and teatime at Beloved Yoga!\n\n\n\n&nbsp
 \;\n<strong><a href='https://insightmemory.app.neoncrm.com/eventReg.jsp?ev
 ent=1978&' target='_blank' class='button' rel='noreferrer noopener'>Sign M
 e Up!</a></strong>
DTSTART;TZID=America/New_York:20250128T140000
DTEND;TZID=America/New_York:20250128T160000
LOCATION:Beloved Yoga\, 11109 Sunset Hills Road #100\, Reston\, VA 20191 US
SUMMARY:Meet Me: At Beloved Yoga
END:VEVENT
END:VCALENDAR
