BEGIN:VCALENDAR
VERSION:2.0
PRODID:-//www.insightmcc.org//NONSGML kigkonsult.se iCalcreator 2.30.10//
CALSCALE:GREGORIAN
METHOD:PUBLISH
UID:70c9b0c9-65c1-462d-974b-750ef25920d1
X-WR-CALDESC:Insight Memory Care Center is partnering with Encore Creativit
 y for Older Adults\, the nation’s largest choral program for singers 55+\,
  to offer a chorus for those diagnosed with early or beginning moderate Al
 zheimer’s and other memory impairments.\n\nSingers in the chorus\, along w
 ith their care partner\, will learn familiar and new songs in three-part h
 armony. We will rehearse familiar music for the season\, along with old fa
 vorites such as Somewhere Over the Rainbow. Everyone will learn vocal tech
 nique skills to improve their singing voice and\, of course\, enjoy the al
 l-important social aspect of choral singing!\n\nWe are hopeful that all ca
 re partners will also sing! If you don’t feel as musically inclined\, care
  partners can also just listen in to rehearsals.\n\n<b>Spring 2025 Session
  Details: Every Wednesday effective 01/29/2025 until 05/21/2025 from 10:00
  AM to 11:30 AM</b>\n\nYou will register for the Spring 2025 Session at th
 e link below. Please choose the Sentimental Journey Singers of Fairfax opt
 ion on the registration form.
X-WR-RELCALID:3fadaee3c04b43ab71588ee976abf7c9
X-WR-TIMEZONE:America/New_York
BEGIN:VTIMEZONE
TZID:America/New_York
BEGIN:STANDARD
TZNAME:EST
DTSTART:20241103T020000
TZOFFSETFROM:-0400
TZOFFSETTO:-0500
RDATE:20251102T020000
END:STANDARD
BEGIN:DAYLIGHT
TZNAME:EDT
DTSTART:20240310T020000
TZOFFSETFROM:-0500
TZOFFSETTO:-0400
RDATE:20250309T020000
RDATE:20260308T020000
END:DAYLIGHT
END:VTIMEZONE
BEGIN:VEVENT
UID:5c263887-4165-4cf5-829b-be443d21586c
DTSTAMP:20260421T234320Z
DESCRIPTION:Insight Memory Care Center is partnering with Encore Creativity
  for Older Adults\, the nation’s largest choral program for singers 55+\, 
 to offer a chorus for those diagnosed with early or beginning moderate Alz
 heimer’s and other memory impairments.\n\nSingers in the chorus\, along wi
 th their care partner\, will learn familiar and new songs in three-part ha
 rmony. We will rehearse familiar music for the season\, along with old fav
 orites such as Somewhere Over the Rainbow. Everyone will learn vocal techn
 ique skills to improve their singing voice and\, of course\, enjoy the all
 -important social aspect of choral singing!\n\nWe are hopeful that all car
 e partners will also sing! If you don’t feel as musically inclined\, care 
 partners can also just listen in to rehearsals.\n\n<b>Spring 2025 Session 
 Details: Every Wednesday effective 01/29/2025 until 05/21/2025 from 10:00 
 AM to 11:30 AM</b>\n\nYou will register for the Spring 2025 Session at the
  link below. Please choose the Sentimental Journey Singers of Fairfax opti
 on on the registration form.
DTSTART;TZID=America/New_York:20250129T100000
DTEND;TZID=America/New_York:20250129T113000
LOCATION:Insight Memory Care Center - Mazawey Education and Support Center\
 , 3955 Pender Drive\, Suite 100\, Fairfax\, VA 22030 US
SUMMARY:Sentimental Journey Singers - Fairfax
END:VEVENT
END:VCALENDAR
