BEGIN:VCALENDAR
VERSION:2.0
PRODID:-//www.insightmcc.org//NONSGML kigkonsult.se iCalcreator 2.30.10//
CALSCALE:GREGORIAN
METHOD:PUBLISH
UID:bdc2b4f8-4538-4125-92c9-a3bde43a30d8
X-WR-CALDESC:<strong>This January session was rescheduled from 1/9 for incl
 ement weather. Join us!</strong>\n\nThis group will offer a safe\, welcomi
 ng and private setting for caregivers to share their caregiving experience
 s\, connect with others going through the same journey and receive insight
  from an expert. There will also be group discussions and educational pres
 entations about relevant caregiving topics.\n\nThis month's topic is Diffi
 cult Behaviors: What? Where? When? Why? - Behaviors do not define the pers
 on\, they are just a product of the disease. If they had the ability\, the
 y would probably choose to act differently! We'll discuss tools to improve
  interactions\, prevent\, and solve behaviors.
X-WR-RELCALID:ed2c3e1a12898fa9cade53d21c4bbc29
X-WR-TIMEZONE:America/New_York
BEGIN:VTIMEZONE
TZID:America/New_York
BEGIN:STANDARD
TZNAME:EST
DTSTART:20241103T020000
TZOFFSETFROM:-0400
TZOFFSETTO:-0500
RDATE:20251102T020000
END:STANDARD
BEGIN:DAYLIGHT
TZNAME:EDT
DTSTART:20240310T020000
TZOFFSETFROM:-0500
TZOFFSETTO:-0400
RDATE:20250309T020000
RDATE:20260308T020000
END:DAYLIGHT
END:VTIMEZONE
BEGIN:VEVENT
UID:4764dcc4-9267-4620-a302-74c30b6fcce0
DTSTAMP:20260421T232542Z
DESCRIPTION:<strong>This January session was rescheduled from 1/9 for incle
 ment weather. Join us!</strong>\n\nThis group will offer a safe\, welcomin
 g and private setting for caregivers to share their caregiving experiences
 \, connect with others going through the same journey and receive insight 
 from an expert. There will also be group discussions and educational prese
 ntations about relevant caregiving topics.\n\nThis month's topic is Diffic
 ult Behaviors: What? Where? When? Why? - Behaviors do not define the perso
 n\, they are just a product of the disease. If they had the ability\, they
  would probably choose to act differently! We'll discuss tools to improve 
 interactions\, prevent\, and solve behaviors.
DTSTART;TZID=America/New_York:20250129T150000
DTEND;TZID=America/New_York:20250129T160000
LOCATION:Great Falls Assisted Living\, 1121 Reston Ave\, Herndon\, VA 20170
  US
SUMMARY:Caregiver Support Group
END:VEVENT
END:VCALENDAR
