BEGIN:VCALENDAR
VERSION:2.0
PRODID:-//www.insightmcc.org//NONSGML kigkonsult.se iCalcreator 2.30.10//
CALSCALE:GREGORIAN
METHOD:PUBLISH
UID:4ac1733f-e870-46db-ba0a-43cc78f6529b
X-WR-CALDESC:Care Partner Meet-Ups are an informal way for current families
  to meet\, chat\, and get to know one another! You are welcome to stop in 
 and stay as long as you'd like. We offer meet-ups in both Fairfax (1st Fri
 days) and Sterling (1st Wednesdays) once a month.\n\nIf you are in need of
  respite care for your loved one with dementia please reach out to support
 @insightmcc.org so we can make sure to have support for you!\n\n&nbsp\;\n<
 strong><a href='https://insightmemory.app.neoncrm.com/eventReg.jsp?event=2
 008&' target='_blank' class='button' rel='noreferrer noopener'>Sign Me Up!
 </a></strong>
X-WR-RELCALID:654955c6a05cada169e6943c50c95fd6
X-WR-TIMEZONE:America/New_York
BEGIN:VTIMEZONE
TZID:America/New_York
BEGIN:STANDARD
TZNAME:EST
DTSTART:20241103T020000
TZOFFSETFROM:-0400
TZOFFSETTO:-0500
RDATE:20251102T020000
END:STANDARD
BEGIN:DAYLIGHT
TZNAME:EDT
DTSTART:20240310T020000
TZOFFSETFROM:-0500
TZOFFSETTO:-0400
RDATE:20250309T020000
RDATE:20260308T020000
END:DAYLIGHT
END:VTIMEZONE
BEGIN:VEVENT
UID:8a734bfc-4b4a-45fd-b3d1-9e31b02d3bb0
DTSTAMP:20260422T004504Z
DESCRIPTION:Care Partner Meet-Ups are an informal way for current families 
 to meet\, chat\, and get to know one another! You are welcome to stop in a
 nd stay as long as you'd like. We offer meet-ups in both Fairfax (1st Frid
 ays) and Sterling (1st Wednesdays) once a month.\n\nIf you are in need of 
 respite care for your loved one with dementia please reach out to support@
 insightmcc.org so we can make sure to have support for you!\n\n&nbsp\;\n<s
 trong><a href='https://insightmemory.app.neoncrm.com/eventReg.jsp?event=20
 08&' target='_blank' class='button' rel='noreferrer noopener'>Sign Me Up!<
 /a></strong>
DTSTART;TZID=America/New_York:20250205T133000
DTEND;TZID=America/New_York:20250205T144500
LOCATION:Ridgetop Coffee and Tea\, 21631 Ridgetop Circle\, Sterling\, VA 20
 166 US
SUMMARY:Sterling Care Partner Meet-Up
END:VEVENT
END:VCALENDAR
