BEGIN:VCALENDAR
VERSION:2.0
PRODID:-//www.insightmcc.org//NONSGML kigkonsult.se iCalcreator 2.30.10//
CALSCALE:GREGORIAN
METHOD:PUBLISH
UID:12e8d418-7d9e-4ff0-9116-ca3246af14d2
X-WR-CALDESC:As our loved ones age\, providing them with the care they need
  to maintain a high quality of life becomes a top priority. For those faci
 ng cognitive decline and memory loss\, the journey can be especially chall
 enging. Memory care offers a specialized environment tailored to meet the 
 unique needs of seniors with dementia and other memory-related conditions.
  Gaining a deeper understanding of how dementia is diagnosed and how it af
 fects the brain can help care partners feel better prepared for the path a
 head. \n\nThis class is presented by the Insight team & Synergy Home Care 
 at Lansdowne Heights.\n\n\n\n
X-WR-RELCALID:e4c6eadbcc2df446b12911a60c4c1e0b
X-WR-TIMEZONE:America/New_York
BEGIN:VTIMEZONE
TZID:America/New_York
BEGIN:STANDARD
TZNAME:EST
DTSTART:20241103T020000
TZOFFSETFROM:-0400
TZOFFSETTO:-0500
RDATE:20251102T020000
END:STANDARD
BEGIN:DAYLIGHT
TZNAME:EDT
DTSTART:20240310T020000
TZOFFSETFROM:-0500
TZOFFSETTO:-0400
RDATE:20250309T020000
RDATE:20260308T020000
END:DAYLIGHT
END:VTIMEZONE
BEGIN:VEVENT
UID:578648d5-400f-4d8a-ac10-20137bc0e414
DTSTAMP:20260422T004128Z
DESCRIPTION:As our loved ones age\, providing them with the care they need 
 to maintain a high quality of life becomes a top priority. For those facin
 g cognitive decline and memory loss\, the journey can be especially challe
 nging. Memory care offers a specialized environment tailored to meet the u
 nique needs of seniors with dementia and other memory-related conditions. 
 Gaining a deeper understanding of how dementia is diagnosed and how it aff
 ects the brain can help care partners feel better prepared for the path ah
 ead. \n\nThis class is presented by the Insight team & Synergy Home Care a
 t Lansdowne Heights.\n\n\n\n
DTSTART;TZID=America/New_York:20250205T110000
DTEND;TZID=America/New_York:20250205T120000
LOCATION:Lansdowne Heights\, 19520 Sandridge Way\, Leesburg\, VA 20176 US
SUMMARY:How Dementia is Diagnosed and How it Affects the Brain
END:VEVENT
END:VCALENDAR
