BEGIN:VCALENDAR
VERSION:2.0
PRODID:-//www.insightmcc.org//NONSGML kigkonsult.se iCalcreator 2.30.10//
CALSCALE:GREGORIAN
METHOD:PUBLISH
UID:0c100a68-125d-46de-8d36-0faad54445a4
X-WR-CALDESC:Learn more about age-related changes in memory and learning\, 
 and practices to keep your brain sharp! Learn what to expect\, what’s “nor
 mal\,” and when it’s time to seek a doctor’s input.\n\nThis class is prese
 nted by the Insight team at the Great Falls Library.\n\n\n&nbsp\;\n<strong
 ><a href='https://insightmemory.app.neoncrm.com/np/clients/insightmemory/e
 ventRegistration.jsp?event=2198&' target='_blank' class='button' rel='nore
 ferrer noopener'>Sign Me Up!</a></strong>\n\n
X-WR-RELCALID:8e78a0021289f6aee915115cc2c1de53
X-WR-TIMEZONE:America/New_York
BEGIN:VTIMEZONE
TZID:America/New_York
BEGIN:STANDARD
TZNAME:EST
DTSTART:20241103T020000
TZOFFSETFROM:-0400
TZOFFSETTO:-0500
RDATE:20251102T020000
END:STANDARD
BEGIN:DAYLIGHT
TZNAME:EDT
DTSTART:20240310T020000
TZOFFSETFROM:-0500
TZOFFSETTO:-0400
RDATE:20250309T020000
RDATE:20260308T020000
END:DAYLIGHT
END:VTIMEZONE
BEGIN:VEVENT
UID:259c3632-e392-4781-89d2-1b35ab042e20
DTSTAMP:20260422T003852Z
DESCRIPTION:Learn more about age-related changes in memory and learning\, a
 nd practices to keep your brain sharp! Learn what to expect\, what’s “norm
 al\,” and when it’s time to seek a doctor’s input.\n\nThis class is presen
 ted by the Insight team at the Great Falls Library.\n\n\n&nbsp\;\n<strong>
 <a href='https://insightmemory.app.neoncrm.com/np/clients/insightmemory/ev
 entRegistration.jsp?event=2198&' target='_blank' class='button' rel='noref
 errer noopener'>Sign Me Up!</a></strong>\n\n
DTSTART;TZID=America/New_York:20250206T120000
DTEND;TZID=America/New_York:20250206T130000
LOCATION:Great Falls Library\, 9830 Georgetown Pike\, Great Falls\, VA 2206
 6 US
SUMMARY:Better Brain Health
END:VEVENT
END:VCALENDAR
