BEGIN:VCALENDAR
VERSION:2.0
PRODID:-//www.insightmcc.org//NONSGML kigkonsult.se iCalcreator 2.30.10//
CALSCALE:GREGORIAN
METHOD:PUBLISH
UID:fafeb8da-b555-4f4f-b568-b84e1c793ebb
X-WR-CALDESC:Join us for a discussion about the importance of socialization
  when aging. Research has found that social support can play a significant
  role in overall health as people age. Spending time with friends and fami
 ly members can boost quality of life\, including both physical and mental 
 health.\n\nThis event is presented by the Insight Memory Care Center Educa
 tion team at the Centreville Regional Library.\n\n\n&nbsp\;\n<strong><a hr
 ef='https://insightmemory.app.neoncrm.com/eventReg.jsp?event=2203&' target
 ='_blank' class='button' rel='noreferrer noopener'>Sign Me Up!</a></strong
 >
X-WR-RELCALID:2e4525b90a0325260c10278a4436283c
X-WR-TIMEZONE:America/New_York
BEGIN:VTIMEZONE
TZID:America/New_York
BEGIN:STANDARD
TZNAME:EST
DTSTART:20241103T020000
TZOFFSETFROM:-0400
TZOFFSETTO:-0500
RDATE:20251102T020000
END:STANDARD
BEGIN:DAYLIGHT
TZNAME:EDT
DTSTART:20240310T020000
TZOFFSETFROM:-0500
TZOFFSETTO:-0400
RDATE:20250309T020000
RDATE:20260308T020000
END:DAYLIGHT
END:VTIMEZONE
BEGIN:VEVENT
UID:cfde94d2-b049-47bb-b10a-747c15c50b0c
DTSTAMP:20260422T003919Z
DESCRIPTION:Join us for a discussion about the importance of socialization 
 when aging. Research has found that social support can play a significant 
 role in overall health as people age. Spending time with friends and famil
 y members can boost quality of life\, including both physical and mental h
 ealth.\n\nThis event is presented by the Insight Memory Care Center Educat
 ion team at the Centreville Regional Library.\n\n\n&nbsp\;\n<strong><a hre
 f='https://insightmemory.app.neoncrm.com/eventReg.jsp?event=2203&' target=
 '_blank' class='button' rel='noreferrer noopener'>Sign Me Up!</a></strong>
DTSTART;TZID=America/New_York:20250210T133000
DTEND;TZID=America/New_York:20250210T143000
LOCATION:Centreville Regional Library\, 14200 St Germain Dr\, Centreville\,
  VA 20121 US
SUMMARY:Importance of Socialization While Aging
END:VEVENT
END:VCALENDAR
