BEGIN:VCALENDAR
VERSION:2.0
PRODID:-//www.insightmcc.org//NONSGML kigkonsult.se iCalcreator 2.30.10//
CALSCALE:GREGORIAN
METHOD:PUBLISH
UID:86e16ef1-3a5f-46f5-8f94-aa7f538dc048
X-WR-CALDESC:Dementia-related illnesses can impair a person’s senses and ab
 ilities to perform complex tasks—such as operating a firearm—safely\, putt
 ing both their own safety and the safety of others at risk. However\, the 
 loss of independence in activities they've done for many years can be a ch
 allenging and emotional experience. This presentation will guide caregiver
 s on how to handle these sensitive situations with respect\, ensuring the 
 safety of both themselves and their loved ones.\n\n<b>Due to winter weathe
 r\, this class will be held virtually.</b>\n\nVirtual attendees will recei
 ve Zoom information prior to the class.\n\nThis program is a part of our m
 onthly Care Partner Training series. All sessions are FREE\, and held the 
 second Wednesday of each month from 1:00 to 2:30 pm.\n\n\n&nbsp\;\n\n<stro
 ng><a href='https://insightmemory.app.neoncrm.com/eventReg.jsp?event=2123&
 ' class='button'>Sign Me Up - Virtual</a></strong>\n&nbsp\;\n&nbsp\;\n\n<b
 >Presenter</b>\n<i>Be SMART</i>\n\nThe Be SMART campaign was launched in 2
 015 to promote responsible gun ownership in order to reduce the deaths\, i
 njuries and trauma that can result when a child or teen is able to access 
 a gun. Since that time\, Be SMART volunteers have encouraged community lea
 ders to come together to emphasize the importance of gun safety and the ev
 eryday actions we all can take to keep guns out of the hands of kids.\n
X-WR-RELCALID:57860a25ab449ac7c4b19b0c45e5528a
X-WR-TIMEZONE:America/New_York
BEGIN:VTIMEZONE
TZID:America/New_York
BEGIN:STANDARD
TZNAME:EST
DTSTART:20241103T020000
TZOFFSETFROM:-0400
TZOFFSETTO:-0500
RDATE:20251102T020000
END:STANDARD
BEGIN:DAYLIGHT
TZNAME:EDT
DTSTART:20240310T020000
TZOFFSETFROM:-0500
TZOFFSETTO:-0400
RDATE:20250309T020000
RDATE:20260308T020000
END:DAYLIGHT
END:VTIMEZONE
BEGIN:VEVENT
UID:12557083-c53e-49e1-9a81-75f903628935
DTSTAMP:20260422T003936Z
DESCRIPTION:Dementia-related illnesses can impair a person’s senses and abi
 lities to perform complex tasks—such as operating a firearm—safely\, putti
 ng both their own safety and the safety of others at risk. However\, the l
 oss of independence in activities they've done for many years can be a cha
 llenging and emotional experience. This presentation will guide caregivers
  on how to handle these sensitive situations with respect\, ensuring the s
 afety of both themselves and their loved ones.\n\n<b>Due to winter weather
 \, this class will be held virtually.</b>\n\nVirtual attendees will receiv
 e Zoom information prior to the class.\n\nThis program is a part of our mo
 nthly Care Partner Training series. All sessions are FREE\, and held the s
 econd Wednesday of each month from 1:00 to 2:30 pm.\n\n\n&nbsp\;\n\n<stron
 g><a href='https://insightmemory.app.neoncrm.com/eventReg.jsp?event=2123&'
  class='button'>Sign Me Up - Virtual</a></strong>\n&nbsp\;\n&nbsp\;\n\n<b>
 Presenter</b>\n<i>Be SMART</i>\n\nThe Be SMART campaign was launched in 20
 15 to promote responsible gun ownership in order to reduce the deaths\, in
 juries and trauma that can result when a child or teen is able to access a
  gun. Since that time\, Be SMART volunteers have encouraged community lead
 ers to come together to emphasize the importance of gun safety and the eve
 ryday actions we all can take to keep guns out of the hands of kids.\n
DTSTART;TZID=America/New_York:20250212T130000
DTEND;TZID=America/New_York:20250212T143000
LOCATION:Virtual
SUMMARY:Dementia and Firearms: Navigating a Difficult Situation
END:VEVENT
END:VCALENDAR
