BEGIN:VCALENDAR
VERSION:2.0
PRODID:-//www.insightmcc.org//NONSGML kigkonsult.se iCalcreator 2.30.10//
CALSCALE:GREGORIAN
METHOD:PUBLISH
UID:f0a33428-4e32-45e9-9a84-e089b4c3fa5c
X-WR-CALDESC:Insight will be closed for the President's Day holiday.
X-WR-RELCALID:c5e5db06d88fa120aa6277b4fe06dcee
X-WR-TIMEZONE:America/New_York
BEGIN:VTIMEZONE
TZID:America/New_York
BEGIN:STANDARD
TZNAME:EST
DTSTART:20241103T020000
TZOFFSETFROM:-0400
TZOFFSETTO:-0500
RDATE:20251102T020000
END:STANDARD
BEGIN:DAYLIGHT
TZNAME:EDT
DTSTART:20240310T020000
TZOFFSETFROM:-0500
TZOFFSETTO:-0400
RDATE:20250309T020000
RDATE:20260308T020000
END:DAYLIGHT
END:VTIMEZONE
BEGIN:VEVENT
UID:67fbe2f1-dd63-435d-9758-d97fa1218c7a
DTSTAMP:20260422T003807Z
DESCRIPTION:Insight will be closed for the President's Day holiday.
DTSTART;TZID=America/New_York:20250217T060000
DTEND;TZID=America/New_York:20250217T060001
LOCATION:
SUMMARY:Insight Closed
END:VEVENT
END:VCALENDAR
