BEGIN:VCALENDAR
VERSION:2.0
PRODID:-//www.insightmcc.org//NONSGML kigkonsult.se iCalcreator 2.30.10//
CALSCALE:GREGORIAN
METHOD:PUBLISH
UID:e8e856a8-6ed1-4c7e-84a1-f6e4d903843f
X-WR-CALDESC:The Primary Progressive Aphasia Memory Café is a monthly socia
 l gathering for caregivers & loved ones with progressive aphasia and mild 
 memory loss hosted by Insight Memory Care Center. This cafe is a monthly e
 ngagement program of activities\, recreation\, peer support and socializat
 ion for individuals showing early signs of memory loss and progressive aph
 asia and their caregivers. \n\nEvery gathering is geared toward keeping th
 e mind active during the early stages of progressive aphasia and improving
  communication and connection between caregivers and loved ones to the gre
 atest degree possible.\n\nTo ensure we have space and program supplies for
  each participant\, we ask that you please register in advance. We look fo
 rward to seeing you at the next café!\n\nDetails: 3rd Tuesday of the month
  from 11:00 am - 12:00 pm\n\nLocation: Hope United Church of Christ\, 6130
  Old Telegraph Rd\, Alexandria\, VA 22310\n\n&nbsp\;\n<strong><a href='htt
 ps://insightmemory.app.neoncrm.com/eventReg.jsp?event=2118&' target='_blan
 k' class='button' rel='noreferrer noopener'>Sign Me Up!</a></strong>
X-WR-RELCALID:8f1b2fbc093a58d682208388242d7d42
X-WR-TIMEZONE:America/New_York
BEGIN:VTIMEZONE
TZID:America/New_York
BEGIN:STANDARD
TZNAME:EST
DTSTART:20241103T020000
TZOFFSETFROM:-0400
TZOFFSETTO:-0500
RDATE:20251102T020000
END:STANDARD
BEGIN:DAYLIGHT
TZNAME:EDT
DTSTART:20240310T020000
TZOFFSETFROM:-0500
TZOFFSETTO:-0400
RDATE:20250309T020000
RDATE:20260308T020000
END:DAYLIGHT
END:VTIMEZONE
BEGIN:VEVENT
UID:d334f3da-7c20-4950-801e-7a8c73ea7be1
DTSTAMP:20260422T004325Z
DESCRIPTION:The Primary Progressive Aphasia Memory Café is a monthly social
  gathering for caregivers & loved ones with progressive aphasia and mild m
 emory loss hosted by Insight Memory Care Center. This cafe is a monthly en
 gagement program of activities\, recreation\, peer support and socializati
 on for individuals showing early signs of memory loss and progressive apha
 sia and their caregivers. \n\nEvery gathering is geared toward keeping the
  mind active during the early stages of progressive aphasia and improving 
 communication and connection between caregivers and loved ones to the grea
 test degree possible.\n\nTo ensure we have space and program supplies for 
 each participant\, we ask that you please register in advance. We look for
 ward to seeing you at the next café!\n\nDetails: 3rd Tuesday of the month 
 from 11:00 am - 12:00 pm\n\nLocation: Hope United Church of Christ\, 6130 
 Old Telegraph Rd\, Alexandria\, VA 22310\n\n&nbsp\;\n<strong><a href='http
 s://insightmemory.app.neoncrm.com/eventReg.jsp?event=2118&' target='_blank
 ' class='button' rel='noreferrer noopener'>Sign Me Up!</a></strong>
DTSTART;TZID=America/New_York:20250218T110000
DTEND;TZID=America/New_York:20250218T120000
LOCATION:Hope United Church of Christ\,  6130 Old Telegraph Rd\, Alexandria
 \, VA 22310 US
SUMMARY:Primary Progressive Aphasia Memory Café
END:VEVENT
END:VCALENDAR
