BEGIN:VCALENDAR
VERSION:2.0
PRODID:-//www.insightmcc.org//NONSGML kigkonsult.se iCalcreator 2.30.10//
CALSCALE:GREGORIAN
METHOD:PUBLISH
UID:61e03ea9-50ec-4ca2-a29a-0033ffe2ecb0
X-WR-CALDESC:Learn the basics of dementia\, including Alzheimer’s disease a
 nd other dementias. While not everyone travels the same path\, come and le
 arn about the general stages to help you anticipate future changes.\n\nThi
 s event is presented by the Insight Memory Care Center Education team at t
 he Herndon Fortnightly Library.\n\n&nbsp\;\n<strong><a href='https://insig
 htmemory.app.neoncrm.com/eventReg.jsp?event=2208&' target='_blank' class='
 button' rel='noreferrer noopener'>Sign Me Up!</a></strong>
X-WR-RELCALID:64bc9ab499e965a63776626562028277
X-WR-TIMEZONE:America/New_York
BEGIN:VTIMEZONE
TZID:America/New_York
BEGIN:STANDARD
TZNAME:EST
DTSTART:20241103T020000
TZOFFSETFROM:-0400
TZOFFSETTO:-0500
RDATE:20251102T020000
END:STANDARD
BEGIN:DAYLIGHT
TZNAME:EDT
DTSTART:20240310T020000
TZOFFSETFROM:-0500
TZOFFSETTO:-0400
RDATE:20250309T020000
RDATE:20260308T020000
END:DAYLIGHT
END:VTIMEZONE
BEGIN:VEVENT
UID:9b0be437-e13c-430b-907e-9d7b5a6e5fb6
DTSTAMP:20260422T003920Z
DESCRIPTION:Learn the basics of dementia\, including Alzheimer’s disease an
 d other dementias. While not everyone travels the same path\, come and lea
 rn about the general stages to help you anticipate future changes.\n\nThis
  event is presented by the Insight Memory Care Center Education team at th
 e Herndon Fortnightly Library.\n\n&nbsp\;\n<strong><a href='https://insigh
 tmemory.app.neoncrm.com/eventReg.jsp?event=2208&' target='_blank' class='b
 utton' rel='noreferrer noopener'>Sign Me Up!</a></strong>
DTSTART;TZID=America/New_York:20250218T120000
DTEND;TZID=America/New_York:20250218T130000
LOCATION:Herndon Fortnightly Library\,  768 Center St\, Herndon\, VA 20170 
 US
SUMMARY:Dementia 101
END:VEVENT
END:VCALENDAR
