BEGIN:VCALENDAR
VERSION:2.0
PRODID:-//www.insightmcc.org//NONSGML kigkonsult.se iCalcreator 2.30.10//
CALSCALE:GREGORIAN
METHOD:PUBLISH
UID:0b35de22-5415-4eb4-921b-13db665f7ef3
X-WR-CALDESC:Insight Memory Care Center will offer free\, confidential memo
 ry screenings and educational materials to people with concerns about thei
 r memory or who want to check their memory now for future comparison. \n\n
 Register for a 30 minute time slot between 9:00am-1:00pm by calling 703-22
 8-7369.
X-WR-RELCALID:07fa22770c656df558322c0facc8a8ad
X-WR-TIMEZONE:America/New_York
BEGIN:VTIMEZONE
TZID:America/New_York
BEGIN:STANDARD
TZNAME:EST
DTSTART:20241103T020000
TZOFFSETFROM:-0400
TZOFFSETTO:-0500
RDATE:20251102T020000
END:STANDARD
BEGIN:DAYLIGHT
TZNAME:EDT
DTSTART:20240310T020000
TZOFFSETFROM:-0500
TZOFFSETTO:-0400
RDATE:20250309T020000
RDATE:20260308T020000
END:DAYLIGHT
END:VTIMEZONE
BEGIN:VEVENT
UID:f0bf3df8-35a0-41cf-803c-c6faa8bfc54e
DTSTAMP:20260422T003937Z
DESCRIPTION:Insight Memory Care Center will offer free\, confidential memor
 y screenings and educational materials to people with concerns about their
  memory or who want to check their memory now for future comparison. \n\nR
 egister for a 30 minute time slot between 9:00am-1:00pm by calling 703-228
 -7369.
DTSTART;TZID=America/New_York:20250219T090000
DTEND;TZID=America/New_York:20250219T130000
LOCATION:Arlington Mill Senior Center\, 909 S Dinwiddie St\, Arlington\, VA
  22204 US
SUMMARY:Memory Screenings at Arlington Mill
END:VEVENT
END:VCALENDAR
